BEGIN:VCALENDAR
VERSION:2.0
PRODID:-//KSKJ Life - ECPv6.15.18//NONSGML v1.0//EN
CALSCALE:GREGORIAN
METHOD:PUBLISH
X-ORIGINAL-URL:https://kskjlife.com
X-WR-CALDESC:Events for KSKJ Life
REFRESH-INTERVAL;VALUE=DURATION:PT1H
X-Robots-Tag:noindex
X-PUBLISHED-TTL:PT1H
BEGIN:VTIMEZONE
TZID:America/Chicago
BEGIN:DAYLIGHT
TZOFFSETFROM:-0600
TZOFFSETTO:-0500
TZNAME:CDT
DTSTART:20220313T080000
END:DAYLIGHT
BEGIN:STANDARD
TZOFFSETFROM:-0500
TZOFFSETTO:-0600
TZNAME:CST
DTSTART:20221106T070000
END:STANDARD
BEGIN:DAYLIGHT
TZOFFSETFROM:-0600
TZOFFSETTO:-0500
TZNAME:CDT
DTSTART:20230312T080000
END:DAYLIGHT
BEGIN:STANDARD
TZOFFSETFROM:-0500
TZOFFSETTO:-0600
TZNAME:CST
DTSTART:20231105T070000
END:STANDARD
BEGIN:DAYLIGHT
TZOFFSETFROM:-0600
TZOFFSETTO:-0500
TZNAME:CDT
DTSTART:20240310T080000
END:DAYLIGHT
BEGIN:STANDARD
TZOFFSETFROM:-0500
TZOFFSETTO:-0600
TZNAME:CST
DTSTART:20241103T070000
END:STANDARD
BEGIN:DAYLIGHT
TZOFFSETFROM:-0600
TZOFFSETTO:-0500
TZNAME:CDT
DTSTART:20250309T080000
END:DAYLIGHT
BEGIN:STANDARD
TZOFFSETFROM:-0500
TZOFFSETTO:-0600
TZNAME:CST
DTSTART:20251102T070000
END:STANDARD
BEGIN:DAYLIGHT
TZOFFSETFROM:-0600
TZOFFSETTO:-0500
TZNAME:CDT
DTSTART:20260308T080000
END:DAYLIGHT
BEGIN:STANDARD
TZOFFSETFROM:-0500
TZOFFSETTO:-0600
TZNAME:CST
DTSTART:20261101T070000
END:STANDARD
END:VTIMEZONE
BEGIN:VEVENT
DTSTART;TZID=America/Chicago:20251130T130000
DTEND;TZID=America/Chicago:20251130T160000
DTSTAMP:20260422T085100
CREATED:20250227T194929Z
LAST-MODIFIED:20250930T204555Z
UID:10000380-1764507600-1764518400@kskjlife.com
SUMMARY:St. Joseph Lodge #2 Annual Meeting & Christmas Luncheon
DESCRIPTION:We will conduct our annual meeting to nominate\, elect and install officers for 2026. The meeting will be followed by a Christmas Luncheon.
URL:https://kskjlife.com/event/st-joseph-lodge-2-annual-meeting-christmas-luncheon/
LOCATION:St. Joe’s Park\, Theodore Street\, Joliet\, IL
END:VEVENT
BEGIN:VEVENT
DTSTART;TZID=America/Chicago:20250309T130000
DTEND;TZID=America/Chicago:20250309T160000
DTSTAMP:20260422T085100
CREATED:20241125T214034Z
LAST-MODIFIED:20241125T214034Z
UID:10000374-1741525200-1741536000@kskjlife.com
SUMMARY:Lodge #2 Meeting followed by a Chili Cook Off
DESCRIPTION:We will conduct a lodge meeting\, which will be followed by a chili cook off as a joint event with Lodge #29.
URL:https://kskjlife.com/event/lodge-2-meeting-followed-by-a-chili-cook-off/
LOCATION:St. Joe’s Park\, Theodore Street\, Joliet\, IL
END:VEVENT
BEGIN:VEVENT
DTSTART;TZID=America/Chicago:20241201T130000
DTEND;TZID=America/Chicago:20241201T160000
DTSTAMP:20260422T085100
CREATED:20240930T140336Z
LAST-MODIFIED:20240930T140336Z
UID:10000365-1733058000-1733068800@kskjlife.com
SUMMARY:Lodge #2 Annual Meeting\, Election of Officers and Installation of Officers
DESCRIPTION:We will conduct our annual meeting followed by the special meeting for election of officers and installation of officers. This meeting will be followed with a Christmas Luncheon.
URL:https://kskjlife.com/event/lodge-2-annual-meeting-election-of-officers-and-installation-of-officers/
LOCATION:St. Joe’s Park\, Theodore Street\, Joliet\, IL
END:VEVENT
BEGIN:VEVENT
DTSTART;TZID=America/Chicago:20241201T130000
DTEND;TZID=America/Chicago:20241201T150000
DTSTAMP:20260422T085100
CREATED:20240111T151018Z
LAST-MODIFIED:20240111T151018Z
UID:10000332-1733058000-1733065200@kskjlife.com
SUMMARY:Lodge #29 meeting and election of officers for 2025
DESCRIPTION:Lodge meeting and election of officers for 2025.
URL:https://kskjlife.com/event/lodge-29-meeting-and-election-of-officers-for-2025/
LOCATION:St. Joe’s Park\, Theodore Street\, Joliet\, IL
END:VEVENT
BEGIN:VEVENT
DTSTART;TZID=America/Chicago:20240915T130000
DTEND;TZID=America/Chicago:20240915T170000
DTSTAMP:20260422T085100
CREATED:20240111T150909Z
LAST-MODIFIED:20240111T150909Z
UID:10000331-1726405200-1726419600@kskjlife.com
SUMMARY:Lodge #29 meeting and wine tasting after meeting with Lodge #2
DESCRIPTION:Lodge #29 meeting and afterwards will we join Lodge #2 for wine tasting!
URL:https://kskjlife.com/event/lodge-29-meeting-and-wine-tasting-after-meeting-with-lodge-2/
LOCATION:St. Joe’s Park\, Theodore Street\, Joliet\, IL
END:VEVENT
BEGIN:VEVENT
DTSTART;TZID=America/Chicago:20240726T170000
DTEND;TZID=America/Chicago:20240726T200000
DTSTAMP:20260422T085100
CREATED:20240111T150728Z
LAST-MODIFIED:20240111T150728Z
UID:10000330-1722013200-1722024000@kskjlife.com
SUMMARY:Lodge #29 meeting and Steak Fry
DESCRIPTION:It’s our annual steak fry to be held after our Lodge meeting. Stay tuned for further information on the steak fry and cost.
URL:https://kskjlife.com/event/lodge-29-meeting-and-steak-fry/
LOCATION:St. Joe’s Park\, Theodore Street\, Joliet\, IL
END:VEVENT
BEGIN:VEVENT
DTSTART;TZID=America/Chicago:20240614T170000
DTEND;TZID=America/Chicago:20240614T200000
DTSTAMP:20260422T085100
CREATED:20240425T175325Z
LAST-MODIFIED:20240425T175325Z
UID:10000340-1718384400-1718395200@kskjlife.com
SUMMARY:St. Joe's Lodge #2 Meeting and Steak Fry
DESCRIPTION:The Lodge will conduct an business meeting followed by our annual steak fry. Members and non members will be welcome to attend the steak fry.
URL:https://kskjlife.com/event/st-joes-lodge-2-meeting-and-steak-fry/
LOCATION:St. Joe’s Park\, Theodore Street\, Joliet\, IL
END:VEVENT
BEGIN:VEVENT
DTSTART;TZID=America/Chicago:20240329T110000
DTEND;TZID=America/Chicago:20240329T140000
DTSTAMP:20260422T085100
CREATED:20240226T172845Z
LAST-MODIFIED:20240226T172845Z
UID:10000336-1711710000-1711720800@kskjlife.com
SUMMARY:Good Friday St. Joseph Church Fish Fry
DESCRIPTION:St. Joe’s Lodge #2 will partner with St. Genevieve Lodge #29 to participate in this matching fund event. Our member volunteers\, along with Lodge #29 volunteer members\, will assist in the preparation and set up of St. Joe’s Park Hall on Thursday before Good Friday for the fish fry. On Good Friday\, member volunteers will assist in food preparation and serving of food and refreshments. This will be followed with the hall clean up. \nNet proceeds from this event will be matched by the KSKJ Home Office and donated to St. Joseph Church.
URL:https://kskjlife.com/event/good-friday-st-joseph-church-fish-fry-2/
LOCATION:St. Joe’s Park\, Theodore Street\, Joliet\, IL
END:VEVENT
BEGIN:VEVENT
DTSTART;TZID=America/Chicago:20240328T083000
DTEND;TZID=America/Chicago:20240328T130000
DTSTAMP:20260422T085100
CREATED:20240226T172625Z
LAST-MODIFIED:20240226T173000Z
UID:10000335-1711614600-1711630800@kskjlife.com
SUMMARY:Good Friday St. Joseph Church Fish Fry Set Up
DESCRIPTION:St. Joe’s Lodge #2 will partner with St. Genevieve Lodge #29 to participate in this matching fund event. Our member volunteers\, along with Lodge #29 volunteer members\, will assist in the preparation and set up of St. Joe’s Park Hall on Thursday before Good Friday for the fish fry. On Good Friday\, member volunteers will assist in food preparation and serving of food and refreshments. This will be followed with the hall clean up. \nNet proceeds from this event will be matched by the KSKJ Home Office and donated to St. Joseph Church.
URL:https://kskjlife.com/event/good-friday-st-joseph-church-fish-fry/
LOCATION:St. Joe’s Park\, Theodore Street\, Joliet\, IL
END:VEVENT
BEGIN:VEVENT
DTSTART;TZID=America/Chicago:20240310T130000
DTEND;TZID=America/Chicago:20240310T160000
DTSTAMP:20260422T085100
CREATED:20240111T150152Z
LAST-MODIFIED:20240111T150152Z
UID:10000328-1710075600-1710086400@kskjlife.com
SUMMARY:St. Joseph Lodge #2 and St. Genevieve's Lodge #29 Inaugural Chili Cookoff
DESCRIPTION:A social gathering will be held with both lodges in attendance. A chili cookoff between members of both lodges is planned\, and a winner determined. Mostly just for fun and to allow our lodges to interact together. Non members will be encouraged to attend. Hoping to continue as an annual event and invite additional participation.
URL:https://kskjlife.com/event/st-joseph-lodge-2-and-st-genevieves-lodge-29-inaugural-chili-cookoff/
LOCATION:St. Joe’s Park\, Theodore Street\, Joliet\, IL
END:VEVENT
BEGIN:VEVENT
DTSTART;TZID=America/Chicago:20230917T140000
DTEND;TZID=America/Chicago:20230917T160000
DTSTAMP:20260422T085100
CREATED:20230814T195300Z
LAST-MODIFIED:20230814T200356Z
UID:10000237-1694959200-1694966400@kskjlife.com
SUMMARY:Wine and Cheese Tasting
DESCRIPTION:St. Joe’s Lodge #2 will hold a meeting on September 17\, 2023\, at the St. Joe’s Park Legion Hall followed by a wine and cheese tasting event. This event will be joined by St. Francis Lodge #29. Everyone attending will bring a bottle of their favorite wine for tasting\, and the lodges will provide the cheese and other snacks.
URL:https://kskjlife.com/event/wine-and-cheese-tasting/
LOCATION:St. Joe’s Park\, Theodore Street\, Joliet\, IL
END:VEVENT
BEGIN:VEVENT
DTSTART;TZID=America/Chicago:20230917T080000
DTEND;TZID=America/Chicago:20230917T170000
DTSTAMP:20260422T085100
CREATED:20230814T195158Z
LAST-MODIFIED:20230814T195158Z
UID:10000235-1694937600-1694970000@kskjlife.com
SUMMARY:Lodge 29 Meeting and afterwards wine tasting with Lodge 2
DESCRIPTION:Lodge 29 meeting and after our meeting we will join Lodge 2 for wine tasting! Bring your favorite wine and munchies to share.
URL:https://kskjlife.com/event/lodge-29-meeting-and-afterwards-wine-tasting-with-lodge-2/
LOCATION:St. Joe’s Park\, Theodore Street\, Joliet\, IL
END:VEVENT
BEGIN:VEVENT
DTSTART;TZID=America/Chicago:20230616T170000
DTEND;TZID=America/Chicago:20230616T200000
DTSTAMP:20260422T085100
CREATED:20230315T195731Z
LAST-MODIFIED:20230315T195731Z
UID:10000306-1686934800-1686945600@kskjlife.com
SUMMARY:Lodge #2 Steak-fry and Meeting
DESCRIPTION:Lodge will provide the steaks and members will bring dishes to pass. Meeting will follow.
URL:https://kskjlife.com/event/lodge-2-steak-fry-and-meeting/
LOCATION:St. Joe’s Park\, Theodore Street\, Joliet\, IL
END:VEVENT
BEGIN:VEVENT
DTSTART;TZID=America/Chicago:20230517T120000
DTEND;TZID=America/Chicago:20230517T150000
DTSTAMP:20260422T085100
CREATED:20230420T181526Z
LAST-MODIFIED:20230420T181901Z
UID:10000312-1684324800-1684335600@kskjlife.com
SUMMARY:KSKJ Days "Feeding America"
DESCRIPTION:Joliet Lodges #2 St. Joseph\, #29 St. Francis and #143 St. John’s will participate in the KSKJ Life Feeding America Food Drive to benefit St. John’s Food Pantry (food bank) through engaging our fraternal membership and non-members to volunteer and donate groceries. If members and non-members are unable to participate in the food drive\, we encourage them to donate funds to KSKJ Life Foundation to be further utilized by the Feed America food bank(s) to purchase food for the needy. \nAt the May 17th St. Joseph’s Church Senior Meeting and Luncheon\, at St. Joe’s Park Hall. We will have 4 volunteers on site to collect food items from Senior Members. This request was presented to the membership at the April 19th Senior Meeting requesting food items and donations. \nClick HERE to donate directly to Feeding America
URL:https://kskjlife.com/event/kskj-days-feeding-america/
LOCATION:St. Joe’s Park\, Theodore Street\, Joliet\, IL
END:VEVENT
END:VCALENDAR