BEGIN:VCALENDAR
VERSION:2.0
PRODID:-//KSKJ Life - ECPv6.15.18//NONSGML v1.0//EN
CALSCALE:GREGORIAN
METHOD:PUBLISH
X-ORIGINAL-URL:https://kskjlife.com
X-WR-CALDESC:Events for KSKJ Life
REFRESH-INTERVAL;VALUE=DURATION:PT1H
X-Robots-Tag:noindex
X-PUBLISHED-TTL:PT1H
BEGIN:VTIMEZONE
TZID:America/Chicago
BEGIN:DAYLIGHT
TZOFFSETFROM:-0600
TZOFFSETTO:-0500
TZNAME:CDT
DTSTART:20210314T080000
END:DAYLIGHT
BEGIN:STANDARD
TZOFFSETFROM:-0500
TZOFFSETTO:-0600
TZNAME:CST
DTSTART:20211107T070000
END:STANDARD
BEGIN:DAYLIGHT
TZOFFSETFROM:-0600
TZOFFSETTO:-0500
TZNAME:CDT
DTSTART:20220313T080000
END:DAYLIGHT
BEGIN:STANDARD
TZOFFSETFROM:-0500
TZOFFSETTO:-0600
TZNAME:CST
DTSTART:20221106T070000
END:STANDARD
BEGIN:DAYLIGHT
TZOFFSETFROM:-0600
TZOFFSETTO:-0500
TZNAME:CDT
DTSTART:20230312T080000
END:DAYLIGHT
BEGIN:STANDARD
TZOFFSETFROM:-0500
TZOFFSETTO:-0600
TZNAME:CST
DTSTART:20231105T070000
END:STANDARD
END:VTIMEZONE
BEGIN:VEVENT
DTSTART;TZID=America/Chicago:20220702T160000
DTEND;TZID=America/Chicago:20220702T180000
DTSTAMP:20260422T172706
CREATED:20220630T132952Z
LAST-MODIFIED:20220702T134630Z
UID:10000196-1656777600-1656784800@kskjlife.com
SUMMARY:50 Year Member and Officer Appreciation Dinner
DESCRIPTION:Saturday\, July 2\, 4PM 50 Year Member and Officer Appreciation dinner Marie’s Restaurant 4502 St. Clair Avenue\, Cleveland 44103. All are welcome but reservations are required to Jean 440-781-3075 text or call by June 28
URL:https://kskjlife.com/event/50-year-member-and-officer-appreciation-dinner/
LOCATION:Marie’s Restaurant 4502 St. Calir Cleveland 44103
END:VEVENT
END:VCALENDAR