BEGIN:VCALENDAR
VERSION:2.0
PRODID:-//KSKJ Life - ECPv6.15.18//NONSGML v1.0//EN
CALSCALE:GREGORIAN
METHOD:PUBLISH
X-WR-CALNAME:KSKJ Life
X-ORIGINAL-URL:https://kskjlife.com
X-WR-CALDESC:Events for KSKJ Life
REFRESH-INTERVAL;VALUE=DURATION:PT1H
X-Robots-Tag:noindex
X-PUBLISHED-TTL:PT1H
BEGIN:VTIMEZONE
TZID:America/Chicago
BEGIN:DAYLIGHT
TZOFFSETFROM:-0600
TZOFFSETTO:-0500
TZNAME:CDT
DTSTART:20210314T080000
END:DAYLIGHT
BEGIN:STANDARD
TZOFFSETFROM:-0500
TZOFFSETTO:-0600
TZNAME:CST
DTSTART:20211107T070000
END:STANDARD
BEGIN:DAYLIGHT
TZOFFSETFROM:-0600
TZOFFSETTO:-0500
TZNAME:CDT
DTSTART:20220313T080000
END:DAYLIGHT
BEGIN:STANDARD
TZOFFSETFROM:-0500
TZOFFSETTO:-0600
TZNAME:CST
DTSTART:20221106T070000
END:STANDARD
BEGIN:DAYLIGHT
TZOFFSETFROM:-0600
TZOFFSETTO:-0500
TZNAME:CDT
DTSTART:20230312T080000
END:DAYLIGHT
BEGIN:STANDARD
TZOFFSETFROM:-0500
TZOFFSETTO:-0600
TZNAME:CST
DTSTART:20231105T070000
END:STANDARD
BEGIN:DAYLIGHT
TZOFFSETFROM:-0600
TZOFFSETTO:-0500
TZNAME:CDT
DTSTART:20240310T080000
END:DAYLIGHT
BEGIN:STANDARD
TZOFFSETFROM:-0500
TZOFFSETTO:-0600
TZNAME:CST
DTSTART:20241103T070000
END:STANDARD
BEGIN:DAYLIGHT
TZOFFSETFROM:-0600
TZOFFSETTO:-0500
TZNAME:CDT
DTSTART:20250309T080000
END:DAYLIGHT
BEGIN:STANDARD
TZOFFSETFROM:-0500
TZOFFSETTO:-0600
TZNAME:CST
DTSTART:20251102T070000
END:STANDARD
BEGIN:DAYLIGHT
TZOFFSETFROM:-0600
TZOFFSETTO:-0500
TZNAME:CDT
DTSTART:20260308T080000
END:DAYLIGHT
BEGIN:STANDARD
TZOFFSETFROM:-0500
TZOFFSETTO:-0600
TZNAME:CST
DTSTART:20261101T070000
END:STANDARD
END:VTIMEZONE
BEGIN:VEVENT
DTSTART;TZID=America/Chicago:20250920T130000
DTEND;TZID=America/Chicago:20250920T190000
DTSTAMP:20260424T190013
CREATED:20250902T144607Z
LAST-MODIFIED:20250902T144607Z
UID:10000386-1758373200-1758394800@kskjlife.com
SUMMARY:Lodge #50 Pittsburgh Picnic
DESCRIPTION:Please SAVE THE DATE for our annual picnic on Saturday September 20th from 1pm-7pm at the Alcoa Grove located in Hampton Community Park. \nBack by popular demand\, the meal will be catered by DiBella’s Subs.  For dessert this year\, we are asking everyone to bring their favorite dessert\, with recipe to share.  We will be having a blind vote to see who brought the most delicious dessert. \nFor our community project outreach program this year\, we will be supporting 2 Giving Girls. We will have a 50/50 drawing that KSKJ Lodge 50 will match\, as well as a mystery prize that we will be selling tickets for a chance to win. \nWe will provide water and iced tea for beverages\, but feel free to bring your own beverages otherwise. \nRSVP to Ashley at kskjlifelodge50@yahoo.com by Saturday September 13th.
URL:https://kskjlife.com/event/lodge-50-pittsburgh-picnic/
LOCATION:Hampton Township Community Park\, 3101 McCully Rd\, Allison Park\, PA\, 15101\, United States
CATEGORIES:Social
END:VEVENT
BEGIN:VEVENT
DTSTART;TZID=America/Chicago:20220723T080000
DTEND;TZID=America/Chicago:20220723T170000
DTSTAMP:20260424T190013
CREATED:20220711T163925Z
LAST-MODIFIED:20220711T165052Z
UID:10000199-1658563200-1658595600@kskjlife.com
SUMMARY:KSKJ Life Lodge 50 Christmas in July Picnic
DESCRIPTION:This years picnic will be held at Hampton Township Community Park at the Alcoa Pavilion (located across from the basketball courts).\nWe will have a fun filled afternoon of camaraderie\, corn hole and activities to occupy the little ones. Back by popular demand we will be playing a few rounds of bingo! \nOur picnic lunch will be catered by Dibella’s. Lodge 50 will provide water and iced tea. We ask that if you’d like another beverage to please bring your own. \nWe are collecting for the Best of Batch\, “Batch a Toy Drive” this year for a Christmas in July picnic. We are seeking toy/game donations valued from $10-$15.00 per person. We ask you try to look for the age range 10 or older as these are their largest and hardest age group to fulfill. We will be doing the Toy Drive as one of our Lodge’s Matching Funds projects so we will be matching a monetary donation for the value of the toys received. \nRSVP no later than Friday July 15th to Ashley (kskjlifelodge50@yahoo.com). \nDirections from Route 8: Wildwood Road Extension/BP/McDonalds\, Make your first Right onto School Road (Zang Auto Body)\, Follow road to first left (Basketball court) Alcoa Grove will be the first grove on your left.
URL:https://kskjlife.com/event/kskj-life-lodge-50-christmas-in-july-picnic/
LOCATION:Hampton Township Community Park\, 3101 McCully Rd\, Allison Park\, PA\, 15101\, United States
END:VEVENT
END:VCALENDAR