BEGIN:VCALENDAR
VERSION:2.0
PRODID:-//KSKJ Life - ECPv6.15.18//NONSGML v1.0//EN
CALSCALE:GREGORIAN
METHOD:PUBLISH
X-ORIGINAL-URL:https://kskjlife.com
X-WR-CALDESC:Events for KSKJ Life
REFRESH-INTERVAL;VALUE=DURATION:PT1H
X-Robots-Tag:noindex
X-PUBLISHED-TTL:PT1H
BEGIN:VTIMEZONE
TZID:America/Chicago
BEGIN:DAYLIGHT
TZOFFSETFROM:-0600
TZOFFSETTO:-0500
TZNAME:CDT
DTSTART:20220313T080000
END:DAYLIGHT
BEGIN:STANDARD
TZOFFSETFROM:-0500
TZOFFSETTO:-0600
TZNAME:CST
DTSTART:20221106T070000
END:STANDARD
BEGIN:DAYLIGHT
TZOFFSETFROM:-0600
TZOFFSETTO:-0500
TZNAME:CDT
DTSTART:20230312T080000
END:DAYLIGHT
BEGIN:STANDARD
TZOFFSETFROM:-0500
TZOFFSETTO:-0600
TZNAME:CST
DTSTART:20231105T070000
END:STANDARD
BEGIN:DAYLIGHT
TZOFFSETFROM:-0600
TZOFFSETTO:-0500
TZNAME:CDT
DTSTART:20240310T080000
END:DAYLIGHT
BEGIN:STANDARD
TZOFFSETFROM:-0500
TZOFFSETTO:-0600
TZNAME:CST
DTSTART:20241103T070000
END:STANDARD
END:VTIMEZONE
BEGIN:VEVENT
DTSTART;VALUE=DATE:20230421
DTEND;VALUE=DATE:20230424
DTSTAMP:20260422T142331
CREATED:20230315T193510Z
LAST-MODIFIED:20230315T193510Z
UID:10000305-1682035200-1682294399@kskjlife.com
SUMMARY:2023 KSKJ Life Bowling Tournament Indianapolis\, IN
DESCRIPTION:KSKJ Midwest lodges: \nAs President of St. Aloysius #52 Indianapolis I wanted to send you all invitations to the April Bowling Tournament. We are excited to host this year and are looking forward to seeing friends and family. \nClick the link for the sign up form.  SIGN UP FORM \nCheck back on our website for updated information: www.stals52.com. \nHotel information: \nHoliday Inn \nhttps://www.holidayinn.com/redirect?path=rates… \nComfort Suites \nComfort Suites Indianapolis Airport \n2750 Fortune Circle West\, \nIndianapolis\, IN 46241 \nP: 317-481-0700 \nReserve under: KSKJ Event \nWe are making lots of fun plans for this year’s tournament. If there are any questions feel free to ask or hit us up on Facebook or by email. \nSee you soon! \nAngie D. Cuson \nPresident – KSKJ Lodge – St. Al’s #52
URL:https://kskjlife.com/event/2023-kskj-life-bowling-tournament-indianapolis-in/
LOCATION:Royal Pins\, 6441 W. Washington St.\, Indianapolis\, IN\, 46241
ORGANIZER;CN="Angie Cuson":MAILTO:adcuson@gmail.com
END:VEVENT
END:VCALENDAR