BEGIN:VCALENDAR
VERSION:2.0
PRODID:-//KSKJ Life - ECPv6.15.18//NONSGML v1.0//EN
CALSCALE:GREGORIAN
METHOD:PUBLISH
X-ORIGINAL-URL:https://kskjlife.com
X-WR-CALDESC:Events for KSKJ Life
REFRESH-INTERVAL;VALUE=DURATION:PT1H
X-Robots-Tag:noindex
X-PUBLISHED-TTL:PT1H
BEGIN:VTIMEZONE
TZID:America/Chicago
BEGIN:DAYLIGHT
TZOFFSETFROM:-0600
TZOFFSETTO:-0500
TZNAME:CDT
DTSTART:20230312T080000
END:DAYLIGHT
BEGIN:STANDARD
TZOFFSETFROM:-0500
TZOFFSETTO:-0600
TZNAME:CST
DTSTART:20231105T070000
END:STANDARD
BEGIN:DAYLIGHT
TZOFFSETFROM:-0600
TZOFFSETTO:-0500
TZNAME:CDT
DTSTART:20240310T080000
END:DAYLIGHT
BEGIN:STANDARD
TZOFFSETFROM:-0500
TZOFFSETTO:-0600
TZNAME:CST
DTSTART:20241103T070000
END:STANDARD
BEGIN:DAYLIGHT
TZOFFSETFROM:-0600
TZOFFSETTO:-0500
TZNAME:CDT
DTSTART:20250309T080000
END:DAYLIGHT
BEGIN:STANDARD
TZOFFSETFROM:-0500
TZOFFSETTO:-0600
TZNAME:CST
DTSTART:20251102T070000
END:STANDARD
END:VTIMEZONE
BEGIN:VEVENT
DTSTART;TZID=America/Chicago:20240804T140000
DTEND;TZID=America/Chicago:20240804T170000
DTSTAMP:20260422T055401
CREATED:20240801T144854Z
LAST-MODIFIED:20240801T144854Z
UID:10000342-1722780000-1722790800@kskjlife.com
SUMMARY:Minnesota Federation of KSKJ Life Lodges Picnic
DESCRIPTION:Join us at Fayal Township Hall Grounds\, 4375 Shady Lane Eveleth\, from 2 PM to 5 PM. RSVP to Karl Oberstar Jr. at 218-404-1010.
URL:https://kskjlife.com/event/minnesota-federation-of-kskj-life-lodges-picnic/
END:VEVENT
BEGIN:VEVENT
DTSTART;TZID=America/Chicago:20240810T160000
DTEND;TZID=America/Chicago:20240810T200000
DTSTAMP:20260422T055401
CREATED:20240801T145044Z
LAST-MODIFIED:20240801T145044Z
UID:10000343-1723305600-1723320000@kskjlife.com
SUMMARY:Lodge #115\, Kansas City\, KS-"Summer Time" Picnic
DESCRIPTION:Erfurt Park – Large Shelter House on Sunday 8/10 from 4 PM to 8 PM.  Mass at 4 PM followed by dinner at 5 PM. RSVP to Julie Schneller at 816-767-8623.
URL:https://kskjlife.com/event/lodge-115-kansas-city-ks-summer-time-picnic/
END:VEVENT
BEGIN:VEVENT
DTSTART;TZID=America/Chicago:20240811T110000
DTEND;TZID=America/Chicago:20240811T170000
DTSTAMP:20260422T055401
CREATED:20240801T145253Z
LAST-MODIFIED:20240801T145401Z
UID:10000344-1723374000-1723395600@kskjlife.com
SUMMARY:Slovenian Culture Center Annual Mass\, Picnic & Raffle
DESCRIPTION:Sunday\, August 11th\, 2024\, at St. Mary’s in Lemont! Enjoy a fun-filled day with activities\, delicious food\, and the chance to win big in the $10\,000 Grand Prize Raffle. \n11:00 a.m.  Mass at Grotto (weather permitting)\n12:00 p.m.  Picnic “on the Hill”\n1:00 p.m.    Slomšek Slovenian School Project\n4:00 p.m.    $1 Dollar Raffle\n5:00 p.m.    $10\,000 Grand Prize Raffle Drawing
URL:https://kskjlife.com/event/slovenian-culture-center-annual-mass-picnic-raffle/
END:VEVENT
END:VCALENDAR