BEGIN:VCALENDAR
VERSION:2.0
PRODID:-//KSKJ Life - ECPv6.15.18//NONSGML v1.0//EN
CALSCALE:GREGORIAN
METHOD:PUBLISH
X-ORIGINAL-URL:https://kskjlife.com
X-WR-CALDESC:Events for KSKJ Life
REFRESH-INTERVAL;VALUE=DURATION:PT1H
X-Robots-Tag:noindex
X-PUBLISHED-TTL:PT1H
BEGIN:VTIMEZONE
TZID:America/Chicago
BEGIN:DAYLIGHT
TZOFFSETFROM:-0600
TZOFFSETTO:-0500
TZNAME:CDT
DTSTART:20230312T080000
END:DAYLIGHT
BEGIN:STANDARD
TZOFFSETFROM:-0500
TZOFFSETTO:-0600
TZNAME:CST
DTSTART:20231105T070000
END:STANDARD
BEGIN:DAYLIGHT
TZOFFSETFROM:-0600
TZOFFSETTO:-0500
TZNAME:CDT
DTSTART:20240310T080000
END:DAYLIGHT
BEGIN:STANDARD
TZOFFSETFROM:-0500
TZOFFSETTO:-0600
TZNAME:CST
DTSTART:20241103T070000
END:STANDARD
BEGIN:DAYLIGHT
TZOFFSETFROM:-0600
TZOFFSETTO:-0500
TZNAME:CDT
DTSTART:20250309T080000
END:DAYLIGHT
BEGIN:STANDARD
TZOFFSETFROM:-0500
TZOFFSETTO:-0600
TZNAME:CST
DTSTART:20251102T070000
END:STANDARD
END:VTIMEZONE
BEGIN:VEVENT
DTSTART;VALUE=DATE:20240412
DTEND;VALUE=DATE:20240415
DTSTAMP:20260422T154235
CREATED:20240131T191703Z
LAST-MODIFIED:20240131T191703Z
UID:10000333-1712880000-1713139199@kskjlife.com
SUMMARY:2024 Bowling Tournament
DESCRIPTION:Cleveland is please to host the 2024 Bowling tournament. The tournament will take place the weekend of April 12 with socials at the Slovenian Home on East 80th and bowling at Roll House Lanes in Parma\, team event Saturday morning and double and single Sunday morning.  The link for hotel reservations is below.  The hotel is offering queens suites (2 queens) and king suites (king with a with a pull-out sofa)\, breakfast is included (please note last day for group rate is March 12\, 2024). Final details are in the work and applications should be out in the next few weeks.  We are looking forward to seeing everyone. \nEvent Summary:\nKSKJ Bowling Tournament\nStart Date: Friday\, April 12\, 2024\nEnd Date: Sunday\, April 14\, 2024\nLast Day to Book: Tuesday\, March 12\, 2024\nHotel(s) offering your special group rate: SpringHill Suites Cleveland Independence for 149 USD – 159 USD per night\nBook your group rate for KSKJ Bowling Tournament
URL:https://kskjlife.com/event/2024-bowling-tournament/
END:VEVENT
BEGIN:VEVENT
DTSTART;TZID=America/Chicago:20240414T120000
DTEND;TZID=America/Chicago:20240414T150000
DTSTAMP:20260422T154235
CREATED:20231117T140947Z
LAST-MODIFIED:20240111T150555Z
UID:10000321-1713096000-1713106800@kskjlife.com
SUMMARY:Lodge #2 Luncheon Honoring Our 50 Year Members
DESCRIPTION:The lodge will host a luncheon to honor 50 year members.
URL:https://kskjlife.com/event/lodge-2-st-josephs-day-luncheon-honoring-of-50-year-members/
LOCATION:Merichka’s Restaurant\, 604 Theodore St\, Crest Hill\, Illinois\, 60403
END:VEVENT
BEGIN:VEVENT
DTSTART;TZID=America/Chicago:20240427T180000
DTEND;TZID=America/Chicago:20240427T210000
DTSTAMP:20260422T154235
CREATED:20240416T195721Z
LAST-MODIFIED:20240416T195721Z
UID:10000337-1714240800-1714251600@kskjlife.com
SUMMARY:Spring Social and Dance
DESCRIPTION:Saturday April 27\, 2024\nSt Jerome Lodge #153\nKSKJ HALL\n261 ALEXANDER AVE\nSTRABANE PA 15363 \nEvening of Music Featuring Frank and Darryl Valencic and Dave Pendel
URL:https://kskjlife.com/event/spring-social-and-dance/
END:VEVENT
END:VCALENDAR