BEGIN:VCALENDAR
VERSION:2.0
PRODID:-//KSKJ Life - ECPv6.15.18//NONSGML v1.0//EN
CALSCALE:GREGORIAN
METHOD:PUBLISH
X-WR-CALNAME:KSKJ Life
X-ORIGINAL-URL:https://kskjlife.com
X-WR-CALDESC:Events for KSKJ Life
REFRESH-INTERVAL;VALUE=DURATION:PT1H
X-Robots-Tag:noindex
X-PUBLISHED-TTL:PT1H
BEGIN:VTIMEZONE
TZID:America/Chicago
BEGIN:DAYLIGHT
TZOFFSETFROM:-0600
TZOFFSETTO:-0500
TZNAME:CDT
DTSTART:20230312T080000
END:DAYLIGHT
BEGIN:STANDARD
TZOFFSETFROM:-0500
TZOFFSETTO:-0600
TZNAME:CST
DTSTART:20231105T070000
END:STANDARD
BEGIN:DAYLIGHT
TZOFFSETFROM:-0600
TZOFFSETTO:-0500
TZNAME:CDT
DTSTART:20240310T080000
END:DAYLIGHT
BEGIN:STANDARD
TZOFFSETFROM:-0500
TZOFFSETTO:-0600
TZNAME:CST
DTSTART:20241103T070000
END:STANDARD
BEGIN:DAYLIGHT
TZOFFSETFROM:-0600
TZOFFSETTO:-0500
TZNAME:CDT
DTSTART:20250309T080000
END:DAYLIGHT
BEGIN:STANDARD
TZOFFSETFROM:-0500
TZOFFSETTO:-0600
TZNAME:CST
DTSTART:20251102T070000
END:STANDARD
END:VTIMEZONE
BEGIN:VEVENT
DTSTART;TZID=America/Chicago:20240107T120000
DTEND;TZID=America/Chicago:20240107T150000
DTSTAMP:20260422T202602
CREATED:20231227T194351Z
LAST-MODIFIED:20231227T195820Z
UID:10000327-1704628800-1704639600@kskjlife.com
SUMMARY:2023 Holiday Luncheon-Lodge 29
DESCRIPTION:Our annual Holiday Luncheon for 2023 will be held at Merichka’s Restaurant . Cocktails (cash bar) Noon. Lunch 12:30- 3pm. Cost is $20.00 members and $25.00 guest. RESERVATIONS ARE REQUIRED BY DECEMBER 30TH. RSVP to Judy Corum 815-545-9105. Make checks payable to KSKJ 29 and mail to Judy Corum 117 N Reed St Joliet IL 60435. NO PAYMENTS TAKEN THE DAY THE LUNCHEON. \nWe will be collecting can goods.
URL:https://kskjlife.com/event/2023-holiday-luncheon-lodge-29/
LOCATION:Merichka’s Restaurant\, 604 Theodore St\, Crest Hill\, Illinois\, 60403
END:VEVENT
BEGIN:VEVENT
DTSTART;TZID=America/Chicago:20240111T080000
DTEND;TZID=America/Chicago:20240111T170000
DTSTAMP:20260422T202602
CREATED:20240111T150313Z
LAST-MODIFIED:20240111T150313Z
UID:10000329-1704960000-1704992400@kskjlife.com
SUMMARY:Lodge #2 Luncheon Honoring Our 50 Year Members
DESCRIPTION:The lodge will host a luncheon to honor 50 year members.
URL:https://kskjlife.com/event/lodge-2-luncheon-honoring-our-50-year-members/
LOCATION:Merichka’s Restaurant\, 604 Theodore St\, Crest Hill\, Illinois\, 60403
END:VEVENT
END:VCALENDAR