BEGIN:VCALENDAR
VERSION:2.0
PRODID:-//KSKJ Life - ECPv6.15.18//NONSGML v1.0//EN
CALSCALE:GREGORIAN
METHOD:PUBLISH
X-WR-CALNAME:KSKJ Life
X-ORIGINAL-URL:https://kskjlife.com
X-WR-CALDESC:Events for KSKJ Life
REFRESH-INTERVAL;VALUE=DURATION:PT1H
X-Robots-Tag:noindex
X-PUBLISHED-TTL:PT1H
BEGIN:VTIMEZONE
TZID:America/Chicago
BEGIN:DAYLIGHT
TZOFFSETFROM:-0600
TZOFFSETTO:-0500
TZNAME:CDT
DTSTART:20220313T080000
END:DAYLIGHT
BEGIN:STANDARD
TZOFFSETFROM:-0500
TZOFFSETTO:-0600
TZNAME:CST
DTSTART:20221106T070000
END:STANDARD
BEGIN:DAYLIGHT
TZOFFSETFROM:-0600
TZOFFSETTO:-0500
TZNAME:CDT
DTSTART:20230312T080000
END:DAYLIGHT
BEGIN:STANDARD
TZOFFSETFROM:-0500
TZOFFSETTO:-0600
TZNAME:CST
DTSTART:20231105T070000
END:STANDARD
BEGIN:DAYLIGHT
TZOFFSETFROM:-0600
TZOFFSETTO:-0500
TZNAME:CDT
DTSTART:20240310T080000
END:DAYLIGHT
BEGIN:STANDARD
TZOFFSETFROM:-0500
TZOFFSETTO:-0600
TZNAME:CST
DTSTART:20241103T070000
END:STANDARD
END:VTIMEZONE
BEGIN:VEVENT
DTSTART;TZID=America/Chicago:20231203T120000
DTEND;TZID=America/Chicago:20231203T150000
DTSTAMP:20260422T215758
CREATED:20231117T141453Z
LAST-MODIFIED:20231117T141453Z
UID:10000324-1701604800-1701615600@kskjlife.com
SUMMARY:Annual Meeting and Christmas Party Lodge #63-Cleveland\, OH
DESCRIPTION:Meeting with election of officer\, Christmas party to follow with bowling\, Santa\, food and fun.
URL:https://kskjlife.com/event/annual-meeting-and-christmas-party-lodge-63-cleveland-oh/
LOCATION:Slovenian East 80th Lanes\, 3563 East 80th Street\, Cleveland\, OH\, 44105\, United States
END:VEVENT
BEGIN:VEVENT
DTSTART;TZID=America/Chicago:20231203T130000
DTEND;TZID=America/Chicago:20231203T150000
DTSTAMP:20260422T215758
CREATED:20230131T203328Z
LAST-MODIFIED:20230131T203338Z
UID:10000304-1701608400-1701615600@kskjlife.com
SUMMARY:Lodge 29 Meeting and Election of officers for 2024
DESCRIPTION:Our meeting and election of officers for 2024. Bring canned goods
URL:https://kskjlife.com/event/lodge-29-meeting-and-election-of-officers-for-2024-lodge-29/
LOCATION:St. Joseph Park Hall\, 1500 N Raynor AV\, Joliet\, IL\, 60403\, United States
END:VEVENT
BEGIN:VEVENT
DTSTART;TZID=America/Chicago:20231203T133000
DTEND;TZID=America/Chicago:20231203T160000
DTSTAMP:20260422T215758
CREATED:20231117T141200Z
LAST-MODIFIED:20231117T141313Z
UID:10000323-1701610200-1701619200@kskjlife.com
SUMMARY:St. Joseph Lodge #2 Annual Meeting
DESCRIPTION:Conduct Annual Meeting to conduct normal business as well as year end business. Additionally\, the lodge will conduct nominations of officers for 2024. Subsequent to nominations\, elections will be held\, and new 2024 officers will be installed. The Lodge Person of the Year will be recognized. A luncheon will be served at the conclusion of the meeting. St. Joseph Ferdinand Hall
URL:https://kskjlife.com/event/st-joseph-lodge-2-annual-meeting/
LOCATION:St. Joseph’s Church & Ferdinand Hall\, 416 N. Chicago St.\, Joliet\, IL\, 60432\, United States
END:VEVENT
BEGIN:VEVENT
DTSTART;TZID=America/Chicago:20231205T180000
DTEND;TZID=America/Chicago:20231205T193000
DTSTAMP:20260422T215758
CREATED:20230503T195539Z
LAST-MODIFIED:20231025T184134Z
UID:10000313-1701799200-1701804600@kskjlife.com
SUMMARY:St. Veronica Lodge #115 Officers Meeting & Election of 2024 Lodge Officers (December 5\, 2023)
DESCRIPTION:Bi-Monthly St. Veronica Lodge Officers Meeting and election of Lodge Officers for 2024. Meeting location to be determined.
URL:https://kskjlife.com/event/st-veronica-lodge-officers-meeting-election-of-2024-lodge-officers-december12-2023/
END:VEVENT
BEGIN:VEVENT
DTSTART;TZID=America/Chicago:20231209T120000
DTEND;TZID=America/Chicago:20231209T150000
DTSTAMP:20260422T215758
CREATED:20231117T143307Z
LAST-MODIFIED:20231117T143425Z
UID:10000326-1702123200-1702134000@kskjlife.com
SUMMARY:St. John's #65 KSKJ Life Christmas Party
DESCRIPTION:St. John’s #65 KSKJ Life Christmas Party. Please bring an appetizer or dessert to share. Pizza\, soda & tap beer provided. Cash Bar \nWhen: Saturday\, December 9\,2023 \nWhere: Gas-Lite West\n4305 S 84th St. Greenfield\, WI 53228 \nTime: 12pm-3pm
URL:https://kskjlife.com/event/st-johns-65-kskj-life-christmas-party/
END:VEVENT
BEGIN:VEVENT
DTSTART;TZID=America/Chicago:20231210T120000
DTEND;TZID=America/Chicago:20231210T140000
DTSTAMP:20260422T215758
CREATED:20231117T141050Z
LAST-MODIFIED:20231117T141050Z
UID:10000322-1702209600-1702216800@kskjlife.com
SUMMARY:2023 Family Christmas Party
DESCRIPTION:St. Mary #79 and St. Joseph #53 is bringing back their annual “Family Christmas Party” . The party will include making crafts\, pizza and pop\, a visit from Santa\, and more.
URL:https://kskjlife.com/event/2023-family-christmas-party/
END:VEVENT
BEGIN:VEVENT
DTSTART;TZID=America/Chicago:20231212T193000
DTEND;TZID=America/Chicago:20231212T193000
DTSTAMP:20260422T215758
CREATED:20231117T142023Z
LAST-MODIFIED:20231117T142040Z
UID:10000325-1702409400-1702409400@kskjlife.com
SUMMARY:Lodge Election Meeting Lodge #143-Joliet\, IL
DESCRIPTION:Lodge Election Meeting -Tuesday\, Dec. 12 at 7:30 p.m.\nAs the year comes to an end\, it’s time for our annual lodge election. Join our meeting to vote for 2024 lodge leaders – or run for a position yourself! We will also discuss our holiday bowling party and charitable giving donations. \nTuesday\, December 12 – 7:30 p.m.\nZOOM LINK: https://northwestern.zoom.us/j/93989879158\nIf you cannot attend but would still like to run for an officer position\, please email KSKJLodge143@gmail.com.
URL:https://kskjlife.com/event/lodge-election-meeting-lodge-143-joliet-il/
END:VEVENT
END:VCALENDAR