BEGIN:VCALENDAR
VERSION:2.0
PRODID:-//KSKJ Life - ECPv6.15.18//NONSGML v1.0//EN
CALSCALE:GREGORIAN
METHOD:PUBLISH
X-WR-CALNAME:KSKJ Life
X-ORIGINAL-URL:https://kskjlife.com
X-WR-CALDESC:Events for KSKJ Life
REFRESH-INTERVAL;VALUE=DURATION:PT1H
X-Robots-Tag:noindex
X-PUBLISHED-TTL:PT1H
BEGIN:VTIMEZONE
TZID:America/Chicago
BEGIN:DAYLIGHT
TZOFFSETFROM:-0600
TZOFFSETTO:-0500
TZNAME:CDT
DTSTART:20220313T080000
END:DAYLIGHT
BEGIN:STANDARD
TZOFFSETFROM:-0500
TZOFFSETTO:-0600
TZNAME:CST
DTSTART:20221106T070000
END:STANDARD
BEGIN:DAYLIGHT
TZOFFSETFROM:-0600
TZOFFSETTO:-0500
TZNAME:CDT
DTSTART:20230312T080000
END:DAYLIGHT
BEGIN:STANDARD
TZOFFSETFROM:-0500
TZOFFSETTO:-0600
TZNAME:CST
DTSTART:20231105T070000
END:STANDARD
BEGIN:DAYLIGHT
TZOFFSETFROM:-0600
TZOFFSETTO:-0500
TZNAME:CDT
DTSTART:20240310T080000
END:DAYLIGHT
BEGIN:STANDARD
TZOFFSETFROM:-0500
TZOFFSETTO:-0600
TZNAME:CST
DTSTART:20241103T070000
END:STANDARD
END:VTIMEZONE
BEGIN:VEVENT
DTSTART;VALUE=DATE:20230924
DTEND;VALUE=DATE:20231005
DTSTAMP:20260423T010402
CREATED:20230830T172603Z
LAST-MODIFIED:20230830T172603Z
UID:10000243-1695513600-1696463999@kskjlife.com
SUMMARY:Slovenian Days in Cleveland\, OH
DESCRIPTION:A week long event of fun and celebration! St. Clair\, Cleveland. More details will be posted on our KSKJ Life Facebook Activities Page HERE.
URL:https://kskjlife.com/event/slovenian-days-in-cleveland-oh/
END:VEVENT
BEGIN:VEVENT
DTSTART;TZID=America/Chicago:20231009T163000
DTEND;TZID=America/Chicago:20231009T193000
DTSTAMP:20260423T010402
CREATED:20231009T204841Z
LAST-MODIFIED:20231009T204841Z
UID:10000248-1696869000-1696879800@kskjlife.com
SUMMARY:Matching Funds event for Greenwood Fire Dept. Lodge #136
DESCRIPTION:Pork Feed and silent auction at Greenwood Fire Dept. to help raise money for new equipment.
URL:https://kskjlife.com/event/matching-funds-event-for-greenwood-fire-dept-lodge-136/
END:VEVENT
BEGIN:VEVENT
DTSTART;TZID=America/Chicago:20231010T180000
DTEND;TZID=America/Chicago:20231010T190000
DTSTAMP:20260423T010402
CREATED:20230503T195831Z
LAST-MODIFIED:20230503T195831Z
UID:10000314-1696960800-1696964400@kskjlife.com
SUMMARY:St. Veronica Lodge #115 Officers Meeting (October 10\, 2023)
DESCRIPTION:Bi-Monthly St. Veronica Lodge Officers Meeting. Meeting location to be determined.
URL:https://kskjlife.com/event/st-veronica-lodge-115-officers-meeting-october-10-2023/
END:VEVENT
END:VCALENDAR