BEGIN:VCALENDAR
VERSION:2.0
PRODID:-//KSKJ Life - ECPv6.15.18//NONSGML v1.0//EN
CALSCALE:GREGORIAN
METHOD:PUBLISH
X-ORIGINAL-URL:https://kskjlife.com
X-WR-CALDESC:Events for KSKJ Life
REFRESH-INTERVAL;VALUE=DURATION:PT1H
X-Robots-Tag:noindex
X-PUBLISHED-TTL:PT1H
BEGIN:VTIMEZONE
TZID:America/Chicago
BEGIN:DAYLIGHT
TZOFFSETFROM:-0600
TZOFFSETTO:-0500
TZNAME:CDT
DTSTART:20220313T080000
END:DAYLIGHT
BEGIN:STANDARD
TZOFFSETFROM:-0500
TZOFFSETTO:-0600
TZNAME:CST
DTSTART:20221106T070000
END:STANDARD
BEGIN:DAYLIGHT
TZOFFSETFROM:-0600
TZOFFSETTO:-0500
TZNAME:CDT
DTSTART:20230312T080000
END:DAYLIGHT
BEGIN:STANDARD
TZOFFSETFROM:-0500
TZOFFSETTO:-0600
TZNAME:CST
DTSTART:20231105T070000
END:STANDARD
BEGIN:DAYLIGHT
TZOFFSETFROM:-0600
TZOFFSETTO:-0500
TZNAME:CDT
DTSTART:20240310T080000
END:DAYLIGHT
BEGIN:STANDARD
TZOFFSETFROM:-0500
TZOFFSETTO:-0600
TZNAME:CST
DTSTART:20241103T070000
END:STANDARD
END:VTIMEZONE
BEGIN:VEVENT
DTSTART;TZID=America/Chicago:20230805T080000
DTEND;TZID=America/Chicago:20230805T170000
DTSTAMP:20260423T040808
CREATED:20230601T142545Z
LAST-MODIFIED:20230601T142545Z
UID:10000320-1691222400-1691254800@kskjlife.com
SUMMARY:Family Excursion to Kelley’s Island-Lodge #63
DESCRIPTION:Join us for the Family Excursion to Kelley’s Island 8/5/23! \n$10.00 per member\, $10 per non member includes Ferry ride to and from and lunch on the island. \nFor exact time and to RSVP by 7/25\, email Jean at jean.marincic@gmail.com
URL:https://kskjlife.com/event/family-excursion-to-kelleys-island-lodge-63/
ORGANIZER;CN="Jean Marincic":MAILTO:Jean.marincic@gmail.com
END:VEVENT
BEGIN:VEVENT
DTSTART;TZID=America/Chicago:20230808T180000
DTEND;TZID=America/Chicago:20230808T190000
DTSTAMP:20260423T040808
CREATED:20230503T200145Z
LAST-MODIFIED:20230503T200145Z
UID:10000315-1691517600-1691521200@kskjlife.com
SUMMARY:St. Veronica Lodge #115 Officers Meeting (August 8\, 2023)
DESCRIPTION:Bi-monthly St. Veronica Lodge Officers Meeting. Meeting location to be determined.
URL:https://kskjlife.com/event/st-veronica-lodge-115-officers-meeting-august-8-2023/
END:VEVENT
BEGIN:VEVENT
DTSTART;TZID=America/Chicago:20230821T080000
DTEND;TZID=America/Chicago:20230821T170000
DTSTAMP:20260423T040808
CREATED:20230601T143218Z
LAST-MODIFIED:20230707T170339Z
UID:10000231-1692604800-1692637200@kskjlife.com
SUMMARY:Back to School Bash Bowling-Lodge #63
DESCRIPTION:8/21 Back to School Bash bowling event at Red Circle Lanes \nFree event includes open bowling and refreshments. \nRSVP by 8/16 to Jean text 440-781-3075 or email jean.marincic@gmail.com.
URL:https://kskjlife.com/event/back-to-school-bash-bowling-lodge-63/
ORGANIZER;CN="Jean Marincic":MAILTO:Jean.marincic@gmail.com
END:VEVENT
BEGIN:VEVENT
DTSTART;TZID=America/Chicago:20230827T110000
DTEND;TZID=America/Chicago:20230827T170000
DTSTAMP:20260423T040808
CREATED:20230821T163400Z
LAST-MODIFIED:20230821T163400Z
UID:10000239-1693134000-1693155600@kskjlife.com
SUMMARY:Annual Pilgrimage and Picnic for the Support of the Monastery & Franciscans
DESCRIPTION:Slovenian Catholic Mission Picnic Grounds\n14246 Main Street\nLemont\, IL 60439 \nThis is the last picnic of the summer season.  Come to enjoy the day and remember the easy\, lazy days of summer with one more day of fun!! \n This event had historically been a reunion of sorts for lodges in the Chicagoland area.  The day starts at 11:00 am with the celebration of the Eucharist (Mass) and singing Litanies to Mary with responses and hymns at the Lourdes grotto. \n\nThere will be monastery honey available for sale (The best in the area!!)\nHomemade bakery for sale\nSlovenska Mladinska Skupina Marela will dance for your enjoyment at about 1:30 pm in the pavilion.\nWaterslide & the playground still needs to be given a workout by the kids! Bring your swimsuit and towels for a slippery good time!\nPlenty of Food and Drink\n\nChicken\, Klobase\, Hot Dogs\, and more\nCold beer and plenty of drink options\n\n\nLive Music and dancing in the pavilion\nRaffle tickets — $2 ea for a top prize of $500\n“With our raffle\, people won’t get poor if they buy tickets and won’t get rich if they win …but the Franciscans wish them luck and they thank everybody for the support!”
URL:https://kskjlife.com/event/annual-pilgrimage-and-picnic-for-the-support-of-the-monastery-franciscans/
END:VEVENT
END:VCALENDAR