BEGIN:VCALENDAR
VERSION:2.0
PRODID:-//KSKJ Life - ECPv6.15.18//NONSGML v1.0//EN
CALSCALE:GREGORIAN
METHOD:PUBLISH
X-ORIGINAL-URL:https://kskjlife.com
X-WR-CALDESC:Events for KSKJ Life
REFRESH-INTERVAL;VALUE=DURATION:PT1H
X-Robots-Tag:noindex
X-PUBLISHED-TTL:PT1H
BEGIN:VTIMEZONE
TZID:America/Chicago
BEGIN:DAYLIGHT
TZOFFSETFROM:-0600
TZOFFSETTO:-0500
TZNAME:CDT
DTSTART:20220313T080000
END:DAYLIGHT
BEGIN:STANDARD
TZOFFSETFROM:-0500
TZOFFSETTO:-0600
TZNAME:CST
DTSTART:20221106T070000
END:STANDARD
BEGIN:DAYLIGHT
TZOFFSETFROM:-0600
TZOFFSETTO:-0500
TZNAME:CDT
DTSTART:20230312T080000
END:DAYLIGHT
BEGIN:STANDARD
TZOFFSETFROM:-0500
TZOFFSETTO:-0600
TZNAME:CST
DTSTART:20231105T070000
END:STANDARD
BEGIN:DAYLIGHT
TZOFFSETFROM:-0600
TZOFFSETTO:-0500
TZNAME:CDT
DTSTART:20240310T080000
END:DAYLIGHT
BEGIN:STANDARD
TZOFFSETFROM:-0500
TZOFFSETTO:-0600
TZNAME:CST
DTSTART:20241103T070000
END:STANDARD
END:VTIMEZONE
BEGIN:VEVENT
DTSTART;TZID=America/Chicago:20230603T090000
DTEND;TZID=America/Chicago:20230603T170000
DTSTAMP:20260423T064434
CREATED:20230601T141820Z
LAST-MODIFIED:20230601T141820Z
UID:10000318-1685782800-1685811600@kskjlife.com
SUMMARY:Join Hands Day-St. Lawrence Lodge #63 &  St. Joe’s Lodge #169
DESCRIPTION:Join Lodge #63 for Join Hands Day with St. Joe’s 169 at the Slovenian Cultural gardens\, Saturday\, June 3rd at 9:00am.  Bring your yard tool and help weed\, and clean up the garden. Our lodge will be providing annuals for planting around the sign and garden.  Please let Jean know if you plan to attend.
URL:https://kskjlife.com/event/join-hands-day-st-lawrence-lodge-63-st-joes-lodge-169/
ORGANIZER;CN="Jean Marincic":MAILTO:Jean.marincic@gmail.com
END:VEVENT
BEGIN:VEVENT
DTSTART;TZID=America/Chicago:20230613T180000
DTEND;TZID=America/Chicago:20230613T190000
DTSTAMP:20260423T064434
CREATED:20230503T200759Z
LAST-MODIFIED:20230503T200759Z
UID:10000317-1686679200-1686682800@kskjlife.com
SUMMARY:St. Veronica Lodge #115 Officers Meeting (June 13\, 2023)
DESCRIPTION:Bi-monthly St. Veronica Lodge Officers meeting to be held at Pizza Shoppe @ 22014 W. 66th\, Shawnee\, KS. 66226
URL:https://kskjlife.com/event/st-veronica-lodge-115-officers-meeting-june-13-2023/
END:VEVENT
BEGIN:VEVENT
DTSTART;TZID=America/Chicago:20230615T183000
DTEND;TZID=America/Chicago:20230615T220000
DTSTAMP:20260423T064434
CREATED:20230606T185656Z
LAST-MODIFIED:20230606T185656Z
UID:10000234-1686853800-1686866400@kskjlife.com
SUMMARY:Food Drive Lodge #143 with Minooka Lions Club Summer Fest
DESCRIPTION:2023 Minooka Lions Club Summerfest \nThursday\, June 15th\, 2023 \n103 W Mondamin St. Minooka\, IL 60447 \nFOOD DRIVE TO BENEFIT THE MISSION BIBLE CHURCH FOOD PANTRY IN COLLABORATION WITH THE MINOOKA LIONS CLUB AND KSKJ LIFE. BRING SOME DRY GOODS AND HELP US MAKE A DIFFERENCE! \nDoors open 6:30pm \nPrice: 21+: $5   6-20: $3     u6: FREE \nFor all Summerfest details visit: www.minookalionsclub.com/summerfest
URL:https://kskjlife.com/event/food-drive-lodge-143-with-minooka-lions-club-summer-fest/
END:VEVENT
BEGIN:VEVENT
DTSTART;TZID=America/Chicago:20230616T170000
DTEND;TZID=America/Chicago:20230616T200000
DTSTAMP:20260423T064434
CREATED:20230315T195731Z
LAST-MODIFIED:20230315T195731Z
UID:10000306-1686934800-1686945600@kskjlife.com
SUMMARY:Lodge #2 Steak-fry and Meeting
DESCRIPTION:Lodge will provide the steaks and members will bring dishes to pass. Meeting will follow.
URL:https://kskjlife.com/event/lodge-2-steak-fry-and-meeting/
LOCATION:St. Joe’s Park\, Theodore Street\, Joliet\, IL
END:VEVENT
END:VCALENDAR