BEGIN:VCALENDAR
VERSION:2.0
PRODID:-//KSKJ Life - ECPv6.15.18//NONSGML v1.0//EN
CALSCALE:GREGORIAN
METHOD:PUBLISH
X-WR-CALNAME:KSKJ Life
X-ORIGINAL-URL:https://kskjlife.com
X-WR-CALDESC:Events for KSKJ Life
REFRESH-INTERVAL;VALUE=DURATION:PT1H
X-Robots-Tag:noindex
X-PUBLISHED-TTL:PT1H
BEGIN:VTIMEZONE
TZID:America/Chicago
BEGIN:DAYLIGHT
TZOFFSETFROM:-0600
TZOFFSETTO:-0500
TZNAME:CDT
DTSTART:20220313T080000
END:DAYLIGHT
BEGIN:STANDARD
TZOFFSETFROM:-0500
TZOFFSETTO:-0600
TZNAME:CST
DTSTART:20221106T070000
END:STANDARD
BEGIN:DAYLIGHT
TZOFFSETFROM:-0600
TZOFFSETTO:-0500
TZNAME:CDT
DTSTART:20230312T080000
END:DAYLIGHT
BEGIN:STANDARD
TZOFFSETFROM:-0500
TZOFFSETTO:-0600
TZNAME:CST
DTSTART:20231105T070000
END:STANDARD
BEGIN:DAYLIGHT
TZOFFSETFROM:-0600
TZOFFSETTO:-0500
TZNAME:CDT
DTSTART:20240310T080000
END:DAYLIGHT
BEGIN:STANDARD
TZOFFSETFROM:-0500
TZOFFSETTO:-0600
TZNAME:CST
DTSTART:20241103T070000
END:STANDARD
END:VTIMEZONE
BEGIN:VEVENT
DTSTART;TZID=America/Chicago:20230415T140000
DTEND;TZID=America/Chicago:20230415T160000
DTSTAMP:20260423T093131
CREATED:20230404T212943Z
LAST-MODIFIED:20230404T213125Z
UID:10000311-1681567200-1681574400@kskjlife.com
SUMMARY:Bowling for Hunger Food Drive #63
DESCRIPTION:Join AMLA Lodge #20 and KSKJ Lodge #63 for a Bowling Food Drive \nSaturday\, April 15 2:00pm-4:00pm \nSlovenian East 80th Lanes\n$3.00 open bowling & shoe rental with a non perishable food donation (cash donations welcome) \nOpen to ALL—Lodge membership not required to participate \n  \nFor more information call or text\nJean 440-781-3075 or\nKatie 440-554-3915\nA fraternal collaboration to FIGHT HUNGER
URL:https://kskjlife.com/event/bowling-for-hunger-food-drive-lodge-20-63/
END:VEVENT
BEGIN:VEVENT
DTSTART;VALUE=DATE:20230421
DTEND;VALUE=DATE:20230424
DTSTAMP:20260423T093131
CREATED:20230315T193510Z
LAST-MODIFIED:20230315T193510Z
UID:10000305-1682035200-1682294399@kskjlife.com
SUMMARY:2023 KSKJ Life Bowling Tournament Indianapolis\, IN
DESCRIPTION:KSKJ Midwest lodges: \nAs President of St. Aloysius #52 Indianapolis I wanted to send you all invitations to the April Bowling Tournament. We are excited to host this year and are looking forward to seeing friends and family. \nClick the link for the sign up form.  SIGN UP FORM \nCheck back on our website for updated information: www.stals52.com. \nHotel information: \nHoliday Inn \nhttps://www.holidayinn.com/redirect?path=rates… \nComfort Suites \nComfort Suites Indianapolis Airport \n2750 Fortune Circle West\, \nIndianapolis\, IN 46241 \nP: 317-481-0700 \nReserve under: KSKJ Event \nWe are making lots of fun plans for this year’s tournament. If there are any questions feel free to ask or hit us up on Facebook or by email. \nSee you soon! \nAngie D. Cuson \nPresident – KSKJ Lodge – St. Al’s #52
URL:https://kskjlife.com/event/2023-kskj-life-bowling-tournament-indianapolis-in/
LOCATION:Royal Pins\, 6441 W. Washington St.\, Indianapolis\, IN\, 46241
ORGANIZER;CN="Angie Cuson":MAILTO:adcuson@gmail.com
END:VEVENT
BEGIN:VEVENT
DTSTART;TZID=America/Chicago:20230422T180000
DTEND;TZID=America/Chicago:20230422T220000
DTSTAMP:20260423T093131
CREATED:20230315T200318Z
LAST-MODIFIED:20230315T200845Z
UID:10000307-1682186400-1682200800@kskjlife.com
SUMMARY:Lodge 29 Matching Funds- Team Make A Difference Fundraiser
DESCRIPTION:Fund Raiser for Team Make A Difference at the Morris Country Club. Team Make A Difference helps a person who is ill or in need. The Team does a renovation of the bedroom or part of the home with volunteers in a 72hr turn- around time. \nThe Fund Raiser will feature entertainment\, food\, raffles and auction.
URL:https://kskjlife.com/event/lodge-29-matching-funds-team-make-a-difference-fundraiser/
LOCATION:Morris Country Club- Morris\, IL\, 2615 W US RT 6\, Morris\, IL
END:VEVENT
END:VCALENDAR