BEGIN:VCALENDAR
VERSION:2.0
PRODID:-//KSKJ Life - ECPv6.15.18//NONSGML v1.0//EN
CALSCALE:GREGORIAN
METHOD:PUBLISH
X-WR-CALNAME:KSKJ Life
X-ORIGINAL-URL:https://kskjlife.com
X-WR-CALDESC:Events for KSKJ Life
REFRESH-INTERVAL;VALUE=DURATION:PT1H
X-Robots-Tag:noindex
X-PUBLISHED-TTL:PT1H
BEGIN:VTIMEZONE
TZID:America/Chicago
BEGIN:DAYLIGHT
TZOFFSETFROM:-0600
TZOFFSETTO:-0500
TZNAME:CDT
DTSTART:20220313T080000
END:DAYLIGHT
BEGIN:STANDARD
TZOFFSETFROM:-0500
TZOFFSETTO:-0600
TZNAME:CST
DTSTART:20221106T070000
END:STANDARD
BEGIN:DAYLIGHT
TZOFFSETFROM:-0600
TZOFFSETTO:-0500
TZNAME:CDT
DTSTART:20230312T080000
END:DAYLIGHT
BEGIN:STANDARD
TZOFFSETFROM:-0500
TZOFFSETTO:-0600
TZNAME:CST
DTSTART:20231105T070000
END:STANDARD
BEGIN:DAYLIGHT
TZOFFSETFROM:-0600
TZOFFSETTO:-0500
TZNAME:CDT
DTSTART:20240310T080000
END:DAYLIGHT
BEGIN:STANDARD
TZOFFSETFROM:-0500
TZOFFSETTO:-0600
TZNAME:CST
DTSTART:20241103T070000
END:STANDARD
END:VTIMEZONE
BEGIN:VTIMEZONE
TZID:America/Chicago
BEGIN:DAYLIGHT
TZOFFSETFROM:-0600
TZOFFSETTO:-0500
TZNAME:CDT
DTSTART:20220313T080000
END:DAYLIGHT
BEGIN:STANDARD
TZOFFSETFROM:-0500
TZOFFSETTO:-0600
TZNAME:CST
DTSTART:20221106T070000
END:STANDARD
BEGIN:DAYLIGHT
TZOFFSETFROM:-0600
TZOFFSETTO:-0500
TZNAME:CDT
DTSTART:20230312T080000
END:DAYLIGHT
BEGIN:STANDARD
TZOFFSETFROM:-0500
TZOFFSETTO:-0600
TZNAME:CST
DTSTART:20231105T070000
END:STANDARD
BEGIN:DAYLIGHT
TZOFFSETFROM:-0600
TZOFFSETTO:-0500
TZNAME:CDT
DTSTART:20240310T080000
END:DAYLIGHT
BEGIN:STANDARD
TZOFFSETFROM:-0500
TZOFFSETTO:-0600
TZNAME:CST
DTSTART:20241103T070000
END:STANDARD
END:VTIMEZONE
BEGIN:VEVENT
DTSTART;TZID=America/Chicago:20230305T130000
DTEND;TZID=America/Chicago:20230305T150000
DTSTAMP:20260423T105601
CREATED:20230115T190004Z
LAST-MODIFIED:20230128T161750Z
UID:10000298-1678021200-1678028400@kskjlife.com
SUMMARY:Lodge 29 Meeting and Chili Cook-off
DESCRIPTION:Join us for our March meeting and annual Chili Cook-off!  Make your best chili and bring your appetite
URL:https://kskjlife.com/event/lodge-29-meeting-and-chili-cook-off/
LOCATION:St Joseph Park Hall\, 1500 N Raynor AV\, Crest Hill\, IL\, 60403\, United States
END:VEVENT
BEGIN:VEVENT
DTSTART;TZID=America/Chicago:20230316T160000
DTEND;TZID=America/Chicago:20230316T180000
DTSTAMP:20260423T105601
CREATED:20230316T171028Z
LAST-MODIFIED:20230316T171028Z
UID:10000308-1678982400-1678989600@kskjlife.com
SUMMARY:Lodge #110 St. Joseph Day Dinner and 50 Yr. Member Recognition
DESCRIPTION:Our annual St. Joseph Day dinner and recognition of our lodge’s 50 year members. 4PM-6PM EST
URL:https://kskjlife.com/event/lodge-110-st-joseph-day-dinner-and-50-yr-member-recognition/
END:VEVENT
BEGIN:VEVENT
DTSTART;TZID=America/Chicago:20230319T103000
DTEND;TZID=America/Chicago:20230319T150000
DTSTAMP:20260423T105601
CREATED:20230131T202929Z
LAST-MODIFIED:20230316T170747Z
UID:10000301-1679221800-1679238000@kskjlife.com
SUMMARY:Lodge #2 St. Joseph’s Day Luncheon Honoring of 50 Year Members
DESCRIPTION:Lodge 2 will host a luncheon for members following the 10:30 am mass at St. Joe’s Church\, in honor of all living & deceased members. We will also honor our 50 year members at the luncheon to be held at Merichka’s Restaurant at 12:00 pm on March 19th.
URL:https://kskjlife.com/event/st-josephs-day-luncheon-honoring-of-50-year-members/
END:VEVENT
END:VCALENDAR