BEGIN:VCALENDAR
VERSION:2.0
PRODID:-//KSKJ Life - ECPv6.15.18//NONSGML v1.0//EN
CALSCALE:GREGORIAN
METHOD:PUBLISH
X-ORIGINAL-URL:https://kskjlife.com
X-WR-CALDESC:Events for KSKJ Life
REFRESH-INTERVAL;VALUE=DURATION:PT1H
X-Robots-Tag:noindex
X-PUBLISHED-TTL:PT1H
BEGIN:VTIMEZONE
TZID:America/New_York
BEGIN:DAYLIGHT
TZOFFSETFROM:-0500
TZOFFSETTO:-0400
TZNAME:EDT
DTSTART:20220313T070000
END:DAYLIGHT
BEGIN:STANDARD
TZOFFSETFROM:-0400
TZOFFSETTO:-0500
TZNAME:EST
DTSTART:20221106T060000
END:STANDARD
BEGIN:DAYLIGHT
TZOFFSETFROM:-0500
TZOFFSETTO:-0400
TZNAME:EDT
DTSTART:20230312T070000
END:DAYLIGHT
BEGIN:STANDARD
TZOFFSETFROM:-0400
TZOFFSETTO:-0500
TZNAME:EST
DTSTART:20231105T060000
END:STANDARD
BEGIN:DAYLIGHT
TZOFFSETFROM:-0500
TZOFFSETTO:-0400
TZNAME:EDT
DTSTART:20240310T070000
END:DAYLIGHT
BEGIN:STANDARD
TZOFFSETFROM:-0400
TZOFFSETTO:-0500
TZNAME:EST
DTSTART:20241103T060000
END:STANDARD
END:VTIMEZONE
BEGIN:VTIMEZONE
TZID:America/New_York
BEGIN:DAYLIGHT
TZOFFSETFROM:-0500
TZOFFSETTO:-0400
TZNAME:EDT
DTSTART:20220313T070000
END:DAYLIGHT
BEGIN:STANDARD
TZOFFSETFROM:-0400
TZOFFSETTO:-0500
TZNAME:EST
DTSTART:20221106T060000
END:STANDARD
BEGIN:DAYLIGHT
TZOFFSETFROM:-0500
TZOFFSETTO:-0400
TZNAME:EDT
DTSTART:20230312T070000
END:DAYLIGHT
BEGIN:STANDARD
TZOFFSETFROM:-0400
TZOFFSETTO:-0500
TZNAME:EST
DTSTART:20231105T060000
END:STANDARD
BEGIN:DAYLIGHT
TZOFFSETFROM:-0500
TZOFFSETTO:-0400
TZNAME:EDT
DTSTART:20240310T070000
END:DAYLIGHT
BEGIN:STANDARD
TZOFFSETFROM:-0400
TZOFFSETTO:-0500
TZNAME:EST
DTSTART:20241103T060000
END:STANDARD
END:VTIMEZONE
BEGIN:VEVENT
DTSTART;TZID=America/New_York:20230204T140000
DTEND;TZID=America/New_York:20230204T170000
DTSTAMP:20260423T121725
CREATED:20230128T162305Z
LAST-MODIFIED:20230128T162305Z
UID:10000300-1675519200-1675530000@kskjlife.com
SUMMARY:Daylight Bowling- Cleveland\, OH
DESCRIPTION:Join us for an afternoon at the NASH and “Daylight Bowling” \nSaturday\, February 4\, 2023 2:00pm \nSlovenian East 80th Lanes\n3563 East 80th Street\, Cleveland \n$25.00 per person  \nIncludes\, Bowling\, Shoe Rental if needed\,  \nFood & Prizes  \nRSVP recommended by Friday\, February 3  \nText or call Deanne 216-267-3244  \nor Jean 440-781-3075  \nWalk ins welcome  \nSponsored by KSKJ #63
URL:https://kskjlife.com/event/daylight-bowling-cleveland-oh/
END:VEVENT
BEGIN:VEVENT
DTSTART;TZID=America/New_York:20230205T120000
DTEND;TZID=America/New_York:20230205T150000
DTSTAMP:20260423T121725
CREATED:20230115T190004Z
LAST-MODIFIED:20230128T161734Z
UID:10000297-1675598400-1675609200@kskjlife.com
SUMMARY:Installation of Officers
DESCRIPTION:Come celebrate the installation of officers for 2023. Bring your favorite dish to share!
URL:https://kskjlife.com/event/installation-of-officers/
LOCATION:St. Vitus Parish Hall\, 6019 Lausche Ave\, Cleveland\, Ohio\, 44103
END:VEVENT
BEGIN:VEVENT
DTSTART;TZID=America/New_York:20230212T183000
DTEND;TZID=America/New_York:20230212T230000
DTSTAMP:20260423T121725
CREATED:20230115T190004Z
LAST-MODIFIED:20230128T161741Z
UID:10000299-1676226600-1676242800@kskjlife.com
SUMMARY:Watch party for AFC vs NFC
DESCRIPTION:Watch party for AFC vs NFC football game.  Fundraiser for Julia Adams House
URL:https://kskjlife.com/event/watch-party-for-afc-vs-nfc/
LOCATION:St Mary’s Church auditorium Collinwood
END:VEVENT
END:VCALENDAR