BEGIN:VCALENDAR
VERSION:2.0
PRODID:-//KSKJ Life - ECPv6.15.18//NONSGML v1.0//EN
CALSCALE:GREGORIAN
METHOD:PUBLISH
X-WR-CALNAME:KSKJ Life
X-ORIGINAL-URL:https://kskjlife.com
X-WR-CALDESC:Events for KSKJ Life
REFRESH-INTERVAL;VALUE=DURATION:PT1H
X-Robots-Tag:noindex
X-PUBLISHED-TTL:PT1H
BEGIN:VTIMEZONE
TZID:America/Detroit
BEGIN:DAYLIGHT
TZOFFSETFROM:-0500
TZOFFSETTO:-0400
TZNAME:EDT
DTSTART:20210314T070000
END:DAYLIGHT
BEGIN:STANDARD
TZOFFSETFROM:-0400
TZOFFSETTO:-0500
TZNAME:EST
DTSTART:20211107T060000
END:STANDARD
BEGIN:DAYLIGHT
TZOFFSETFROM:-0500
TZOFFSETTO:-0400
TZNAME:EDT
DTSTART:20220313T070000
END:DAYLIGHT
BEGIN:STANDARD
TZOFFSETFROM:-0400
TZOFFSETTO:-0500
TZNAME:EST
DTSTART:20221106T060000
END:STANDARD
BEGIN:DAYLIGHT
TZOFFSETFROM:-0500
TZOFFSETTO:-0400
TZNAME:EDT
DTSTART:20230312T070000
END:DAYLIGHT
BEGIN:STANDARD
TZOFFSETFROM:-0400
TZOFFSETTO:-0500
TZNAME:EST
DTSTART:20231105T060000
END:STANDARD
END:VTIMEZONE
BEGIN:VTIMEZONE
TZID:America/Chicago
BEGIN:DAYLIGHT
TZOFFSETFROM:-0600
TZOFFSETTO:-0500
TZNAME:CDT
DTSTART:20210314T080000
END:DAYLIGHT
BEGIN:STANDARD
TZOFFSETFROM:-0500
TZOFFSETTO:-0600
TZNAME:CST
DTSTART:20211107T070000
END:STANDARD
BEGIN:DAYLIGHT
TZOFFSETFROM:-0600
TZOFFSETTO:-0500
TZNAME:CDT
DTSTART:20220313T080000
END:DAYLIGHT
BEGIN:STANDARD
TZOFFSETFROM:-0500
TZOFFSETTO:-0600
TZNAME:CST
DTSTART:20221106T070000
END:STANDARD
BEGIN:DAYLIGHT
TZOFFSETFROM:-0600
TZOFFSETTO:-0500
TZNAME:CDT
DTSTART:20230312T080000
END:DAYLIGHT
BEGIN:STANDARD
TZOFFSETFROM:-0500
TZOFFSETTO:-0600
TZNAME:CST
DTSTART:20231105T070000
END:STANDARD
END:VTIMEZONE
BEGIN:VEVENT
DTSTART;TZID=America/Detroit:20221203T190000
DTEND;TZID=America/Detroit:20221203T210000
DTSTAMP:20260423T150801
CREATED:20221024T184753Z
LAST-MODIFIED:20221203T180009Z
UID:10000282-1670094000-1670101200@kskjlife.com
SUMMARY:Matching Funds
DESCRIPTION:An evening with Miklavž to benefit St. Mary’s Slovenian School
URL:https://kskjlife.com/event/matching-funds-2/
LOCATION:St. Mary’s School Auditorium\, 15519 Holmes Ave\, Cleveland\, 44110\, United States
END:VEVENT
BEGIN:VEVENT
DTSTART;TZID=America/Chicago:20221204T130000
DTEND;TZID=America/Chicago:20221204T150000
DTSTAMP:20260423T150801
CREATED:20221024T184753Z
LAST-MODIFIED:20221204T180050Z
UID:10000274-1670158800-1670166000@kskjlife.com
SUMMARY:KSKJ Lodge 29 meeting & election of officers for 2023
DESCRIPTION:KSKJ Lodge 29 meeting and election of officers for 2023.
URL:https://kskjlife.com/event/kskj-lodge-29-meeting-election-of-officers-for-2023/
LOCATION:St Joseph Park Hall\, 1500 N Raynor AV\, Crest Hill\, IL\, 60403\, United States
END:VEVENT
BEGIN:VEVENT
DTSTART;TZID=America/Detroit:20221204T130000
DTEND;TZID=America/Detroit:20221204T150000
DTSTAMP:20260423T150801
CREATED:20221024T184753Z
LAST-MODIFIED:20221204T180050Z
UID:10000284-1670158800-1670166000@kskjlife.com
SUMMARY:Annual meeting and children’s Christmas party
DESCRIPTION:Annual meeting at 12pm with election of officers\, Christmas party with blowing and Santa at 1:00pm
URL:https://kskjlife.com/event/annual-meeting-and-childrens-christmas-party/
LOCATION:Slovenian East 80th Lanes\, 3563 East 80th Street\, Cleveland\, OH\, 44105\, United States
END:VEVENT
BEGIN:VEVENT
DTSTART;TZID=America/Chicago:20221206T180000
DTEND;TZID=America/Chicago:20221206T200000
DTSTAMP:20260423T150801
CREATED:20221206T180025Z
LAST-MODIFIED:20221209T143407Z
UID:10000287-1670349600-1670356800@kskjlife.com
SUMMARY:Annual Lodge Meeting
DESCRIPTION:Annual Lodge Meeting and Dinner\, Election of Officers.
URL:https://kskjlife.com/event/annual-lodge-meeting-2/
LOCATION:Pizza Shoppe\, 22014 W. 66th St.\, Shawnee\, KS\, 66226\, United States
END:VEVENT
BEGIN:VEVENT
DTSTART;TZID=America/Chicago:20221210T080000
DTEND;TZID=America/Chicago:20221210T170000
DTSTAMP:20260423T150801
CREATED:20221208T180049Z
LAST-MODIFIED:20221210T180052Z
UID:10000289-1670659200-1670691600@kskjlife.com
SUMMARY:Christmas Party
DESCRIPTION:Christmas Party
URL:https://kskjlife.com/event/christmas-party/
LOCATION:Holy Family Church Hall\, 513 Ohio Ave.\, Kansas City\, KS\, 66101\, United States
END:VEVENT
BEGIN:VEVENT
DTSTART;TZID=America/Chicago:20221211T120000
DTEND;TZID=America/Chicago:20221211T150000
DTSTAMP:20260423T150801
CREATED:20221208T180050Z
LAST-MODIFIED:20221211T175949Z
UID:10000293-1670760000-1670770800@kskjlife.com
SUMMARY:Lodge Meeting and Christmas Party
DESCRIPTION:December Lodge Meeting\, Christmas Party\, election of officers
URL:https://kskjlife.com/event/lodge-meeting-and-christmas-party/
LOCATION:Resurrection Church\, Eveleth\, MN\, 55734\, United States
END:VEVENT
BEGIN:VEVENT
DTSTART;TZID=America/Chicago:20221211T150000
DTEND;TZID=America/Chicago:20221211T190000
DTSTAMP:20260423T150801
CREATED:20220711T162415Z
LAST-MODIFIED:20220711T162415Z
UID:10000198-1670770800-1670785200@kskjlife.com
SUMMARY:KSKJ Life Lodge 169 Christmas Party 2022
DESCRIPTION:KSKJ Life Lodge 169 Christmas Party
URL:https://kskjlife.com/event/kskj-life-lodge-169-christmas-party-2022/
LOCATION:St. Mary of the Assumption Church\, 15519 Holmes Ave.\, Cleveland\, 44110\, United States
END:VEVENT
BEGIN:VEVENT
DTSTART;TZID=America/Chicago:20221211T150000
DTEND;TZID=America/Chicago:20221211T190000
DTSTAMP:20260423T150801
CREATED:20221208T180050Z
LAST-MODIFIED:20221211T175949Z
UID:10000291-1670770800-1670785200@kskjlife.com
SUMMARY:KSKJ 169 Christmas Party
DESCRIPTION:KSKJ 169 Christmas Party
URL:https://kskjlife.com/event/kskj-169-christmas-party/
LOCATION:St. Mary of the Assumption Church\, 15519 Holmes Ave.\, Cleveland\, 44110\, United States
END:VEVENT
BEGIN:VEVENT
DTSTART;TZID=America/Chicago:20221218T090000
DTEND;TZID=America/Chicago:20221218T103000
DTSTAMP:20260423T150801
CREATED:20221215T180000Z
LAST-MODIFIED:20221218T181552Z
UID:10000296-1671354000-1671359400@kskjlife.com
SUMMARY:Dec. 2022 Breakfast Meeting
DESCRIPTION:Annual Meeting\, Election of Officers\, Review of Bylaws\, Review of 2023 events\, etc. along with Breakfast
URL:https://kskjlife.com/event/dec-2022-breakfast-meeting/
LOCATION:Anastasia’s\, 3880 Northpoint Blvd\, Waukegan\, IL\, 60085\, United States
END:VEVENT
BEGIN:VEVENT
DTSTART;TZID=America/Chicago:20221218T110000
DTEND;TZID=America/Chicago:20221218T123000
DTSTAMP:20260423T150801
CREATED:20221208T180050Z
LAST-MODIFIED:20221218T181552Z
UID:10000294-1671361200-1671366600@kskjlife.com
SUMMARY:Final meeting 2022
DESCRIPTION:Our last meeting of the year will take place prior to Christmas Party on December 18\, 2022\, at 11:00am
URL:https://kskjlife.com/event/final-meeting-2022/
LOCATION:Slovenian Cultural Center\, 14252 Main Street\, Lemont\, IL\, United States
END:VEVENT
BEGIN:VEVENT
DTSTART;TZID=America/Chicago:20221218T130000
DTEND;TZID=America/Chicago:20221218T170000
DTSTAMP:20260423T150801
CREATED:20221208T180050Z
LAST-MODIFIED:20221218T181552Z
UID:10000295-1671368400-1671382800@kskjlife.com
SUMMARY:Christmas Party KSKJ Lodge 1
DESCRIPTION:Our annual Lodge 1 Christmas Party will be on December 18 th 2022 at 1:oo pm at The Lemont Slovenian Cultural Center
URL:https://kskjlife.com/event/christmas-party-kskj-lodge-1/
LOCATION:Slovenian Cultural Center\, 14252 Main Street\, Lemont\, IL\, United States
END:VEVENT
END:VCALENDAR