BEGIN:VCALENDAR
VERSION:2.0
PRODID:-//KSKJ Life - ECPv6.15.18//NONSGML v1.0//EN
CALSCALE:GREGORIAN
METHOD:PUBLISH
X-ORIGINAL-URL:https://kskjlife.com
X-WR-CALDESC:Events for KSKJ Life
REFRESH-INTERVAL;VALUE=DURATION:PT1H
X-Robots-Tag:noindex
X-PUBLISHED-TTL:PT1H
BEGIN:VTIMEZONE
TZID:America/Detroit
BEGIN:DAYLIGHT
TZOFFSETFROM:-0500
TZOFFSETTO:-0400
TZNAME:EDT
DTSTART:20210314T070000
END:DAYLIGHT
BEGIN:STANDARD
TZOFFSETFROM:-0400
TZOFFSETTO:-0500
TZNAME:EST
DTSTART:20211107T060000
END:STANDARD
BEGIN:DAYLIGHT
TZOFFSETFROM:-0500
TZOFFSETTO:-0400
TZNAME:EDT
DTSTART:20220313T070000
END:DAYLIGHT
BEGIN:STANDARD
TZOFFSETFROM:-0400
TZOFFSETTO:-0500
TZNAME:EST
DTSTART:20221106T060000
END:STANDARD
BEGIN:DAYLIGHT
TZOFFSETFROM:-0500
TZOFFSETTO:-0400
TZNAME:EDT
DTSTART:20230312T070000
END:DAYLIGHT
BEGIN:STANDARD
TZOFFSETFROM:-0400
TZOFFSETTO:-0500
TZNAME:EST
DTSTART:20231105T060000
END:STANDARD
END:VTIMEZONE
BEGIN:VEVENT
DTSTART;TZID=America/Detroit:20221112T140000
DTEND;TZID=America/Detroit:20221112T140000
DTSTAMP:20260423T165101
CREATED:20221024T184753Z
LAST-MODIFIED:20221112T173023Z
UID:10000280-1668261600-1668261600@kskjlife.com
SUMMARY:Daylight bowling
DESCRIPTION:Daylight Bowling – fun afternoon of bowling and socializing. $20 per person includes fun bowling\, food\, and fraternalism.
URL:https://kskjlife.com/event/daylight-bowling/
LOCATION:Slovenian East 80th Lanes\, 3563 East 80th Street\, Cleveland\, OH\, 44105\, United States
END:VEVENT
END:VCALENDAR