BEGIN:VCALENDAR
VERSION:2.0
PRODID:-//KSKJ Life - ECPv6.15.18//NONSGML v1.0//EN
CALSCALE:GREGORIAN
METHOD:PUBLISH
X-ORIGINAL-URL:https://kskjlife.com
X-WR-CALDESC:Events for KSKJ Life
REFRESH-INTERVAL;VALUE=DURATION:PT1H
X-Robots-Tag:noindex
X-PUBLISHED-TTL:PT1H
BEGIN:VTIMEZONE
TZID:America/Chicago
BEGIN:DAYLIGHT
TZOFFSETFROM:-0600
TZOFFSETTO:-0500
TZNAME:CDT
DTSTART:20210314T080000
END:DAYLIGHT
BEGIN:STANDARD
TZOFFSETFROM:-0500
TZOFFSETTO:-0600
TZNAME:CST
DTSTART:20211107T070000
END:STANDARD
BEGIN:DAYLIGHT
TZOFFSETFROM:-0600
TZOFFSETTO:-0500
TZNAME:CDT
DTSTART:20220313T080000
END:DAYLIGHT
BEGIN:STANDARD
TZOFFSETFROM:-0500
TZOFFSETTO:-0600
TZNAME:CST
DTSTART:20221106T070000
END:STANDARD
BEGIN:DAYLIGHT
TZOFFSETFROM:-0600
TZOFFSETTO:-0500
TZNAME:CDT
DTSTART:20230312T080000
END:DAYLIGHT
BEGIN:STANDARD
TZOFFSETFROM:-0500
TZOFFSETTO:-0600
TZNAME:CST
DTSTART:20231105T070000
END:STANDARD
END:VTIMEZONE
BEGIN:VEVENT
DTSTART;TZID=America/Chicago:20220805T170000
DTEND;TZID=America/Chicago:20220805T200000
DTSTAMP:20260423T210818
CREATED:20220711T140011Z
LAST-MODIFIED:20220805T143046Z
UID:10000197-1659718800-1659729600@kskjlife.com
SUMMARY:KSKJ Lodge 29 Steak Fry  August 5\, 2022!
DESCRIPTION:Our steak fry is back!    Steak Fry & meeting — Steaks and sides  will be provided.  COST: $15.00 member\, $20.00 guest. Children under 10 free hot dogs.\n We’ll have the grills setup outside  for you to cook your steaks.    We will be collecting school supplies and desserts are welcome.\n RSVP by July 27\, 2022 to Judy Corum at 815-725-3553\n Make your checks payable to KSKJ 29 and mail to Judy Corum 117 N Reed St  Joliet\, IL 60435.\nRESERVATIONS ONLY.  Minimum of 40 reservations or the event will be cancelled.
URL:https://kskjlife.com/event/kskj-lodge-29-steak-fry-august-5-2022/
LOCATION:St Joseph Park Hall\, 1500 N Raynor AV\, Crest Hill\, IL\, 60403\, United States
END:VEVENT
END:VCALENDAR