BEGIN:VCALENDAR
VERSION:2.0
PRODID:-//KSKJ Life - ECPv6.15.18//NONSGML v1.0//EN
CALSCALE:GREGORIAN
METHOD:PUBLISH
X-WR-CALNAME:KSKJ Life
X-ORIGINAL-URL:https://kskjlife.com
X-WR-CALDESC:Events for KSKJ Life
REFRESH-INTERVAL;VALUE=DURATION:PT1H
X-Robots-Tag:noindex
X-PUBLISHED-TTL:PT1H
BEGIN:VTIMEZONE
TZID:America/Chicago
BEGIN:DAYLIGHT
TZOFFSETFROM:-0600
TZOFFSETTO:-0500
TZNAME:CDT
DTSTART:20210314T080000
END:DAYLIGHT
BEGIN:STANDARD
TZOFFSETFROM:-0500
TZOFFSETTO:-0600
TZNAME:CST
DTSTART:20211107T070000
END:STANDARD
BEGIN:DAYLIGHT
TZOFFSETFROM:-0600
TZOFFSETTO:-0500
TZNAME:CDT
DTSTART:20220313T080000
END:DAYLIGHT
BEGIN:STANDARD
TZOFFSETFROM:-0500
TZOFFSETTO:-0600
TZNAME:CST
DTSTART:20221106T070000
END:STANDARD
BEGIN:DAYLIGHT
TZOFFSETFROM:-0600
TZOFFSETTO:-0500
TZNAME:CDT
DTSTART:20230312T080000
END:DAYLIGHT
BEGIN:STANDARD
TZOFFSETFROM:-0500
TZOFFSETTO:-0600
TZNAME:CST
DTSTART:20231105T070000
END:STANDARD
END:VTIMEZONE
BEGIN:VTIMEZONE
TZID:America/Chicago
BEGIN:DAYLIGHT
TZOFFSETFROM:-0600
TZOFFSETTO:-0500
TZNAME:CDT
DTSTART:20210314T080000
END:DAYLIGHT
BEGIN:STANDARD
TZOFFSETFROM:-0500
TZOFFSETTO:-0600
TZNAME:CST
DTSTART:20211107T070000
END:STANDARD
BEGIN:DAYLIGHT
TZOFFSETFROM:-0600
TZOFFSETTO:-0500
TZNAME:CDT
DTSTART:20220313T080000
END:DAYLIGHT
BEGIN:STANDARD
TZOFFSETFROM:-0500
TZOFFSETTO:-0600
TZNAME:CST
DTSTART:20221106T070000
END:STANDARD
BEGIN:DAYLIGHT
TZOFFSETFROM:-0600
TZOFFSETTO:-0500
TZNAME:CDT
DTSTART:20230312T080000
END:DAYLIGHT
BEGIN:STANDARD
TZOFFSETFROM:-0500
TZOFFSETTO:-0600
TZNAME:CST
DTSTART:20231105T070000
END:STANDARD
END:VTIMEZONE
BEGIN:VEVENT
DTSTART;VALUE=DATE:20220507
DTEND;VALUE=DATE:20220508
DTSTAMP:20260424T012002
CREATED:20220427T090031Z
LAST-MODIFIED:20220507T091719Z
UID:10000272-1651881600-1651967999@kskjlife.com
SUMMARY:Join Hands Lodge #1
DESCRIPTION:On Saturday May 7th we will participate in a clean up event at the “ Retreat House “ in Lemont Illinois. We will be assisting the director \, John Vidmar \, in a deep cleanse of the facility. Any KSKJ member is more than welcome to come and assist as we give back in the community.
URL:https://kskjlife.com/event/join-hands/
END:VEVENT
BEGIN:VEVENT
DTSTART;TZID=America/Chicago:20220509T093000
DTEND;TZID=America/Chicago:20220509T113000
DTSTAMP:20260424T012002
CREATED:20220405T071627Z
LAST-MODIFIED:20220509T093059Z
UID:10000269-1652088600-1652095800@kskjlife.com
SUMMARY:Join Hands Day at Sunny Hill Nursing Home on May 9th from 9:30 am to 11:30 am
DESCRIPTION:Our Members and non members are welcome to join St. Joe’s Lodge at Sunny Hill Nursing Home in Joliet IL.  We will be clearing vegetation and planting new flowers for the patients and workers to enjoy.  RSVP to dichurnovic13@hotmail.net
URL:https://kskjlife.com/event/join-hands-day-at-sunny-hill-nursing-home-on-may-9th-from-930-am-to-1130-am/
LOCATION:Sunny Hill Nursing Home\, 421 Doris Ave.\, Joliet\, IL\, 60433\, United States
END:VEVENT
BEGIN:VEVENT
DTSTART;TZID=America/Chicago:20220525T180000
DTEND;TZID=America/Chicago:20220525T210000
DTSTAMP:20260424T012002
CREATED:20220412T183334Z
LAST-MODIFIED:20220412T183334Z
UID:10000271-1653501600-1653512400@kskjlife.com
SUMMARY:Annual Marija Pomagaj Feast Day Mass
DESCRIPTION:Joliet Lodges is starting up our annual Marija Pomagaj feast day. Mass on Wednesday May 25th\, 6:00 pm at St Joseph Church\, Joliet. Followed by a Reception in Ferdinand Hall. Marija Pomagaj is the Patroness of Slovenia and KSKJ. Everyone is invited for the Mass and Reception.
URL:https://kskjlife.com/event/annual-marija-pomagaj-feast-day-mass/
END:VEVENT
END:VCALENDAR