BEGIN:VCALENDAR
VERSION:2.0
PRODID:-//KSKJ Life - ECPv6.15.18//NONSGML v1.0//EN
CALSCALE:GREGORIAN
METHOD:PUBLISH
X-ORIGINAL-URL:https://kskjlife.com
X-WR-CALDESC:Events for KSKJ Life
REFRESH-INTERVAL;VALUE=DURATION:PT1H
X-Robots-Tag:noindex
X-PUBLISHED-TTL:PT1H
BEGIN:VTIMEZONE
TZID:America/Chicago
BEGIN:DAYLIGHT
TZOFFSETFROM:-0600
TZOFFSETTO:-0500
TZNAME:CDT
DTSTART:20210314T080000
END:DAYLIGHT
BEGIN:STANDARD
TZOFFSETFROM:-0500
TZOFFSETTO:-0600
TZNAME:CST
DTSTART:20211107T070000
END:STANDARD
BEGIN:DAYLIGHT
TZOFFSETFROM:-0600
TZOFFSETTO:-0500
TZNAME:CDT
DTSTART:20220313T080000
END:DAYLIGHT
BEGIN:STANDARD
TZOFFSETFROM:-0500
TZOFFSETTO:-0600
TZNAME:CST
DTSTART:20221106T070000
END:STANDARD
BEGIN:DAYLIGHT
TZOFFSETFROM:-0600
TZOFFSETTO:-0500
TZNAME:CDT
DTSTART:20230312T080000
END:DAYLIGHT
BEGIN:STANDARD
TZOFFSETFROM:-0500
TZOFFSETTO:-0600
TZNAME:CST
DTSTART:20231105T070000
END:STANDARD
END:VTIMEZONE
BEGIN:VEVENT
DTSTART;TZID=America/Chicago:20220306T130000
DTEND;TZID=America/Chicago:20220306T150000
DTSTAMP:20260424T040831
CREATED:20220105T220522Z
LAST-MODIFIED:20220306T230105Z
UID:10000188-1646571600-1646578800@kskjlife.com
SUMMARY:Lodge meeting & chili cook off (based on Covid protocol at that time)
DESCRIPTION:Lodge meeting & annual chili cook off
URL:https://kskjlife.com/event/lodge-meeting-chili-cook-off-based-on-covid-protocol-at-that-time/
LOCATION:St Joseph Park Hall\, 1500 N Raynor AV\, Crest Hill\, IL\, 60403\, United States
END:VEVENT
BEGIN:VEVENT
DTSTART;TZID=America/Chicago:20220316T140000
DTEND;TZID=America/Chicago:20220316T183000
DTSTAMP:20260424T040831
CREATED:20220316T050102Z
LAST-MODIFIED:20220405T144335Z
UID:10000266-1647439200-1647455400@kskjlife.com
SUMMARY:Resurrection Church Soup Supper
DESCRIPTION:Lenten soup supper
URL:https://kskjlife.com/event/resurrection-church-soup-supper/
LOCATION:Resurrection Church\, Eveleth\, MN\, 55734\, United States
END:VEVENT
END:VCALENDAR