BEGIN:VCALENDAR
VERSION:2.0
PRODID:-//KSKJ Life - ECPv6.15.18//NONSGML v1.0//EN
CALSCALE:GREGORIAN
METHOD:PUBLISH
X-WR-CALNAME:KSKJ Life
X-ORIGINAL-URL:https://kskjlife.com
X-WR-CALDESC:Events for KSKJ Life
REFRESH-INTERVAL;VALUE=DURATION:PT1H
X-Robots-Tag:noindex
X-PUBLISHED-TTL:PT1H
BEGIN:VTIMEZONE
TZID:America/Chicago
BEGIN:DAYLIGHT
TZOFFSETFROM:-0600
TZOFFSETTO:-0500
TZNAME:CDT
DTSTART:20210314T080000
END:DAYLIGHT
BEGIN:STANDARD
TZOFFSETFROM:-0500
TZOFFSETTO:-0600
TZNAME:CST
DTSTART:20211107T070000
END:STANDARD
BEGIN:DAYLIGHT
TZOFFSETFROM:-0600
TZOFFSETTO:-0500
TZNAME:CDT
DTSTART:20220313T080000
END:DAYLIGHT
BEGIN:STANDARD
TZOFFSETFROM:-0500
TZOFFSETTO:-0600
TZNAME:CST
DTSTART:20221106T070000
END:STANDARD
BEGIN:DAYLIGHT
TZOFFSETFROM:-0600
TZOFFSETTO:-0500
TZNAME:CDT
DTSTART:20230312T080000
END:DAYLIGHT
BEGIN:STANDARD
TZOFFSETFROM:-0500
TZOFFSETTO:-0600
TZNAME:CST
DTSTART:20231105T070000
END:STANDARD
END:VTIMEZONE
BEGIN:VEVENT
DTSTART;VALUE=DATE:20220213
DTEND;VALUE=DATE:20220214
DTSTAMP:20260424T053445
CREATED:20220106T172120Z
LAST-MODIFIED:20220106T172120Z
UID:10000190-1644710400-1644796799@kskjlife.com
SUMMARY:Annual Fundraiser #146
DESCRIPTION:Sunday\, February 13 – Annual fundraiser\, AFC vs NFC\,  Squares are $25.  Virtual event – no watch party.  See Chris Kocin\, Mike Bodanza\, Josie Kmet or John Nemec for tickets.
URL:https://kskjlife.com/event/annual-fundraiser-146/
END:VEVENT
BEGIN:VEVENT
DTSTART;TZID=America/Chicago:20220228T183000
DTEND;TZID=America/Chicago:20220228T220000
DTSTAMP:20260424T053445
CREATED:20220224T214739Z
LAST-MODIFIED:20220224T214810Z
UID:10000192-1646073000-1646085600@kskjlife.com
SUMMARY:KSKJ Lodge #63 meeting with induction of officers and New years Dinner
DESCRIPTION:Please join us Monday\, February 28 – 6:30pm for our New Year Dinner and meeting with installation of officers.\nDinner will consist of Pork Schnitzel\, Slovenian Potato’s\, Tossed Salad and dessert.\nPlease RSVP if you plan to attend so there is enough food for all.  Looking forward to seeing everyone.\nThe meeting will be held at the Slovenian Home\, 3563 East 80th Street Cleveland\, 44105.
URL:https://kskjlife.com/event/kskj-lodge-63-meeting-with-induction-of-officers-and-new-years-dinner/
ORGANIZER;CN="Jean Marincic":MAILTO:Jean.marincic@gmail.com
END:VEVENT
END:VCALENDAR