BEGIN:VCALENDAR
VERSION:2.0
PRODID:-//KSKJ Life - ECPv6.15.18//NONSGML v1.0//EN
CALSCALE:GREGORIAN
METHOD:PUBLISH
X-ORIGINAL-URL:https://kskjlife.com
X-WR-CALDESC:Events for KSKJ Life
REFRESH-INTERVAL;VALUE=DURATION:PT1H
X-Robots-Tag:noindex
X-PUBLISHED-TTL:PT1H
BEGIN:VTIMEZONE
TZID:America/Chicago
BEGIN:DAYLIGHT
TZOFFSETFROM:-0600
TZOFFSETTO:-0500
TZNAME:CDT
DTSTART:20250309T080000
END:DAYLIGHT
BEGIN:STANDARD
TZOFFSETFROM:-0500
TZOFFSETTO:-0600
TZNAME:CST
DTSTART:20251102T070000
END:STANDARD
BEGIN:DAYLIGHT
TZOFFSETFROM:-0600
TZOFFSETTO:-0500
TZNAME:CDT
DTSTART:20260308T080000
END:DAYLIGHT
BEGIN:STANDARD
TZOFFSETFROM:-0500
TZOFFSETTO:-0600
TZNAME:CST
DTSTART:20261101T070000
END:STANDARD
BEGIN:DAYLIGHT
TZOFFSETFROM:-0600
TZOFFSETTO:-0500
TZNAME:CDT
DTSTART:20270314T080000
END:DAYLIGHT
BEGIN:STANDARD
TZOFFSETFROM:-0500
TZOFFSETTO:-0600
TZNAME:CST
DTSTART:20271107T070000
END:STANDARD
END:VTIMEZONE
BEGIN:VEVENT
DTSTART;TZID=America/Chicago:20260619T170000
DTEND;TZID=America/Chicago:20260619T200000
DTSTAMP:20260423T024347
CREATED:20251229T162817Z
LAST-MODIFIED:20251229T162817Z
UID:10000391-1781888400-1781899200@kskjlife.com
SUMMARY:St. Joseph Lodge #2 Meeting and Annual Steak Fry
DESCRIPTION:St. Joseph Lodge #2 will conduct a business meeting followed by our annual steak fry.
URL:https://kskjlife.com/event/st-joseph-lodge-2-meeting-and-annual-steak-fry-2/
LOCATION:St. Joseph’s Park\, Theodore Street\, Joliet\, IL\, 60435\, United States
END:VEVENT
BEGIN:VEVENT
DTSTART;TZID=America/Chicago:20260920T130000
DTEND;TZID=America/Chicago:20260920T160000
DTSTAMP:20260423T024347
CREATED:20251229T162935Z
LAST-MODIFIED:20251229T162935Z
UID:10000392-1789909200-1789920000@kskjlife.com
SUMMARY:St. Joseph Lodge #2 Meeting and Wine Tasting Event
DESCRIPTION:Lodge #2 will conduct a business meeting followed by a wine tasting event with St. Francis Lodge #29.
URL:https://kskjlife.com/event/st-joseph-lodge-2-meeting-and-wine-tasting-event/
LOCATION:St. Joseph’s Park\, Theodore Street\, Joliet\, IL\, 60435\, United States
END:VEVENT
BEGIN:VEVENT
DTSTART;TZID=America/Chicago:20261129T130000
DTEND;TZID=America/Chicago:20261129T160000
DTSTAMP:20260423T024347
CREATED:20251229T163026Z
LAST-MODIFIED:20251229T163026Z
UID:10000393-1795957200-1795968000@kskjlife.com
SUMMARY:St\, Joseph Lodge #2 Annual Meeting & Christmas Luncheon
DESCRIPTION:We will conduct our annual business meeting\, nomination and election of officers and installation of officers. This meeting will be followed by a holiday luncheon.
URL:https://kskjlife.com/event/st-joseph-lodge-2-annual-meeting-christmas-luncheon-2/
LOCATION:St. Joseph’s Park\, Theodore Street\, Joliet\, IL\, 60435\, United States
END:VEVENT
END:VCALENDAR